Workbook
Name Vextir: #REF!

Sheet Leiðbeiningar
D2: Leiðbeiningar við útfyllingu verk- og kostnaðaráætlunar
A3: Leiðbeiningar fyrir útfyllingu verk- og kostnaðaráætlunar
D82: * Ráðgjafataxtar vegna tæknilegrar aðstoðar í þróunarsamvinnu
D83: ** Ferðakostnaður vegna ferðalaga á vegum ríkisins
D84: ***Afskriftarhlutföll má t.d. sjá í skattabæklingum Deloitte og KPMG:
D85: Skattabæklingur Deloitte
D86: Skattabæklingur KPMG

Sheet 1. Verkþættir
B2: Samantekt verkþátta eftir árum
B4: Umsækjandi: | D4: Umsækjandi A ehf.
B5: Meðumsækjandi: | D5: Umsækjandi B ehf. (ef við á)
B6: Heiti verkefnis: | D6: Verkefnið
B7: Land: | D7: Verkefnaland
B8: Verkefnistími: | D8: 202X-202X | Q8: Ekki skal fylla út þessa töflu. Upplýsingar flytjast úr vinnublöðum 2 og 3. | X8: Ekki skal fylla út þessa töflu. Upplýsingar flytjast úr vinnublöðum 2 og 3.
Q9: =+B4 -> Umsækjandi: | R9: =+D4 -> Umsækjandi A ehf. | X9: =+B5 -> Meðumsækjandi: | Y9: =+D5 -> Umsækjandi B ehf. (ef við á) | AM9: janúar | AN9: janúar | AO9: janúar
B10: Ár | C10: Númer verkþáttar | D10: Heiti verkþáttar | E10: Lýsing verkþáttar | F10: Framkvæmdaraðil verkþáttar | G10: Upphaf verkþáttar | H10: Lok verkþáttar | I10: Áætlaðar vörður/aðgerðir | J10: Raun vörður/ aðgerðir | K10: Áætlaðar afurðir/áhrif | L10: Raun afurðir/ áhrif | M10: Áætlaður kostnaður | N10: Raun-kostnaður | O10: Hlutfall af heildar-kostnaði árs | Q10: =+'3. Kostnaðaráætlun'!B13 -> Laun og launatengd gjöld: | R10: =+'3. Kostnaðaráætlun'!B22 -> Rekstrarvörur, efni o.fl.: | S10: =+'3. Kostnaðaráætlun'!B46 -> Aðkeypt þjónusta: | T10: =+'3. Kostnaðaráætlun'!B70 -> Ferðir og fundir: | U10: =+'3. Kostnaðaráætlun'!B94 -> Notkun áhalda og tækja (afskriftir): | V10: =+'3. Kostnaðaráætlun'!B118 -> Samrekstur og aðstaða: | X10: =+Q10 -> Laun og launatengd gjöld: | Y10: =+R10 -> Rekstrarvörur, efni o.fl.: | Z10: =+S10 -> Aðkeypt þjónusta: | AA10: =+T10 -> Ferðir og fundir: | AB10: =+U10 -> Notkun áhalda og tækja (afskriftir): | AC10: =+V10 -> Samrekstur og aðstaða: | AM10: febrúar | AN10: febrúar | AO10: febrúar
B11: 1 | C11: 1 | D11: Heiti verkþáttar 1 | J11: Ekkert skráð hér | L11: Ekkert skráð hér | M11: =+SUM(Q11:V11)+SUM(X11:AC11) -> 0 | N11: Ekkert skráð hér | O11: =IFERROR(M11/$M$16,"") | Q11: =+'3. Kostnaðaráætlun'!G15 -> 0 | R11: =+SUMIF('3. Kostnaðaráætlun'!$B$24:$B$43,1,'3. Kostnaðaráætlun'!$G$24:$G$43) -> 0 | S11: =+SUMIF('3. Kostnaðaráætlun'!$B$48:$B$67,1,'3. Kostnaðaráætlun'!$G$48:$G$67) -> 0 | T11: =+SUMIF('3. Kostnaðaráætlun'!$B$72:$B$91,1,'3. Kostnaðaráætlun'!$G$72:$G$91) -> 0 | U11: =+SUMIF('3. Kostnaðaráætlun'!$B$96:$B$115,1,'3. Kostnaðaráætlun'!$G$96:$G$115) -> 0 | V11: =+SUMIF('3. Kostnaðaráætlun'!$B$120:$B$124,1,'3. Kostnaðaráætlun'!$G$120:$G$124) -> 0 | X11: =+'3. Kostnaðaráætlun'!P15 -> 0 | Y11: =+SUMIF('3. Kostnaðaráætlun'!$K$24:$K$43,1,'3. Kostnaðaráætlun'!$P$24:$P$43) -> 0 | Z11: =+SUMIF('3. Kostnaðaráætlun'!$K$48:$K$67,1,'3. Kostnaðaráætlun'!$P$48:$P$67) -> 0 | AA11: =+SUMIF('3. Kostnaðaráætlun'!$K$72:$K$91,1,'3. Kostnaðaráætlun'!$P$72:$P$91) -> 0 | AB11: =+SUMIF('3. Kostnaðaráætlun'!$K$96:$K$115,1,'3. Kostnaðaráætlun'!$P$96:$P$115) -> 0 | AC11: =+SUMIF('3. Kostnaðaráætlun'!$K$120:$K$124,1,'3. Kostnaðaráætlun'!$P$120:$P$124) -> 0 | AM11: mars | AN11: mars | AO11: mars
B12: 1 | C12: 2 | D12: Heiti verkþáttar 2 | J12: Ekkert skráð hér | L12: Ekkert skráð hér | M12: =+SUM(Q12:V12)+SUM(X12:AC12) -> 0 | N12: Ekkert skráð hér | O12: =IFERROR(M12/$M$16,"") | Q12: =+'3. Kostnaðaráætlun'!G16 -> 0 | R12: =+SUMIF('3. Kostnaðaráætlun'!$B$24:$B$43,2,'3. Kostnaðaráætlun'!$G$24:$G$43) -> 0 | S12: =+SUMIF('3. Kostnaðaráætlun'!$B$48:$B$67,2,'3. Kostnaðaráætlun'!$G$48:$G$67) -> 0 | T12: =+SUMIF('3. Kostnaðaráætlun'!$B$72:$B$91,2,'3. Kostnaðaráætlun'!$G$72:$G$91) -> 0 | U12: =+SUMIF('3. Kostnaðaráætlun'!$B$96:$B$115,2,'3. Kostnaðaráætlun'!$G$96:$G$115) -> 0 | V12: =+SUMIF('3. Kostnaðaráætlun'!$B$120:$B$124,2,'3. Kostnaðaráætlun'!$G$120:$G$124) -> 0 | X12: =+'3. Kostnaðaráætlun'!P16 -> 0 | Y12: =+SUMIF('3. Kostnaðaráætlun'!$K$24:$K$43,2,'3. Kostnaðaráætlun'!$P$24:$P$43) -> 0 | Z12: =+SUMIF('3. Kostnaðaráætlun'!$K$48:$K$67,2,'3. Kostnaðaráætlun'!$P$48:$P$67) -> 0 | AA12: =+SUMIF('3. Kostnaðaráætlun'!$K$72:$K$91,2,'3. Kostnaðaráætlun'!$P$72:$P$91) -> 0 | AB12: =+SUMIF('3. Kostnaðaráætlun'!$K$96:$K$115,2,'3. Kostnaðaráætlun'!$P$96:$P$115) -> 0 | AC12: =+SUMIF('3. Kostnaðaráætlun'!$K$120:$K$124,2,'3. Kostnaðaráætlun'!$P$120:$P$124) -> 0 | AM12: apríl | AN12: apríl | AO12: apríl
B13: 1 | C13: 3 | D13: Heiti verkþáttar 3 | J13: Ekkert skráð hér | L13: Ekkert skráð hér | M13: =+SUM(Q13:V13)+SUM(X13:AC13) -> 0 | N13: Ekkert skráð hér | O13: =IFERROR(M13/$M$16,"") | Q13: =+'3. Kostnaðaráætlun'!G17 -> 0 | R13: =+SUMIF('3. Kostnaðaráætlun'!$B$24:$B$43,3,'3. Kostnaðaráætlun'!$G$24:$G$43) -> 0 | S13: =+SUMIF('3. Kostnaðaráætlun'!$B$48:$B$67,3,'3. Kostnaðaráætlun'!$G$48:$G$67) -> 0 | T13: =+SUMIF('3. Kostnaðaráætlun'!$B$72:$B$91,3,'3. Kostnaðaráætlun'!$G$72:$G$91) -> 0 | U13: =+SUMIF('3. Kostnaðaráætlun'!$B$96:$B$115,3,'3. Kostnaðaráætlun'!$G$96:$G$115) -> 0 | V13: =+SUMIF('3. Kostnaðaráætlun'!$B$120:$B$124,3,'3. Kostnaðaráætlun'!$G$120:$G$124) -> 0 | X13: =+'3. Kostnaðaráætlun'!P17 -> 0 | Y13: =+SUMIF('3. Kostnaðaráætlun'!$K$24:$K$43,3,'3. Kostnaðaráætlun'!$P$24:$P$43) -> 0 | Z13: =+SUMIF('3. Kostnaðaráætlun'!$K$48:$K$67,3,'3. Kostnaðaráætlun'!$P$48:$P$67) -> 0 | AA13: =+SUMIF('3. Kostnaðaráætlun'!$K$72:$K$91,3,'3. Kostnaðaráætlun'!$P$72:$P$91) -> 0 | AB13: =+SUMIF('3. Kostnaðaráætlun'!$K$96:$K$115,3,'3. Kostnaðaráætlun'!$P$96:$P$115) -> 0 | AC13: =+SUMIF('3. Kostnaðaráætlun'!$K$120:$K$124,3,'3. Kostnaðaráætlun'!$P$120:$P$124) -> 0 | AM13: maí | AN13: maí | AO13: maí
B14: 1 | C14: 4 | D14: Heiti verkþáttar 4 | J14: Ekkert skráð hér | L14: Ekkert skráð hér | M14: =+SUM(Q14:V14)+SUM(X14:AC14) -> 0 | N14: Ekkert skráð hér | O14: =IFERROR(M14/$M$16,"") | Q14: =+'3. Kostnaðaráætlun'!G18 -> 0 | R14: =+SUMIF('3. Kostnaðaráætlun'!$B$24:$B$43,4,'3. Kostnaðaráætlun'!$G$24:$G$43) -> 0 | S14: =+SUMIF('3. Kostnaðaráætlun'!$B$48:$B$67,4,'3. Kostnaðaráætlun'!$G$48:$G$67) -> 0 | T14: =+SUMIF('3. Kostnaðaráætlun'!$B$72:$B$91,4,'3. Kostnaðaráætlun'!$G$72:$G$91) -> 0 | U14: =+SUMIF('3. Kostnaðaráætlun'!$B$96:$B$115,4,'3. Kostnaðaráætlun'!$G$96:$G$115) -> 0 | V14: =+SUMIF('3. Kostnaðaráætlun'!$B$120:$B$124,4,'3. Kostnaðaráætlun'!$G$120:$G$124) -> 0 | X14: =+'3. Kostnaðaráætlun'!P18 -> 0 | Y14: =+SUMIF('3. Kostnaðaráætlun'!$K$24:$K$43,4,'3. Kostnaðaráætlun'!$P$24:$P$43) -> 0 | Z14: =+SUMIF('3. Kostnaðaráætlun'!$K$48:$K$67,4,'3. Kostnaðaráætlun'!$P$48:$P$67) -> 0 | AA14: =+SUMIF('3. Kostnaðaráætlun'!$K$72:$K$91,4,'3. Kostnaðaráætlun'!$P$72:$P$91) -> 0 | AB14: =+SUMIF('3. Kostnaðaráætlun'!$K$96:$K$115,4,'3. Kostnaðaráætlun'!$P$96:$P$115) -> 0 | AC14: =+SUMIF('3. Kostnaðaráætlun'!$K$120:$K$124,4,'3. Kostnaðaráætlun'!$P$120:$P$124) -> 0 | AM14: júní | AN14: júní | AO14: júní
B15: 1 | C15: 5 | D15: Heiti verkþáttar 5 | J15: Ekkert skráð hér | L15: Ekkert skráð hér | M15: =+SUM(Q15:V15)+SUM(X15:AC15) -> 0 | N15: Ekkert skráð hér | O15: =IFERROR(M15/$M$16,"") | Q15: =+'3. Kostnaðaráætlun'!G19 -> 0 | R15: =+SUMIF('3. Kostnaðaráætlun'!$B$24:$B$43,5,'3. Kostnaðaráætlun'!$G$24:$G$43) -> 0 | S15: =+SUMIF('3. Kostnaðaráætlun'!$B$48:$B$67,5,'3. Kostnaðaráætlun'!$G$48:$G$67) -> 0 | T15: =+SUMIF('3. Kostnaðaráætlun'!$B$72:$B$91,5,'3. Kostnaðaráætlun'!$G$72:$G$91) -> 0 | U15: =+SUMIF('3. Kostnaðaráætlun'!$B$96:$B$115,5,'3. Kostnaðaráætlun'!$G$96:$G$115) -> 0 | V15: =+SUMIF('3. Kostnaðaráætlun'!$B$120:$B$124,5,'3. Kostnaðaráætlun'!$G$120:$G$124) -> 0 | X15: =+'3. Kostnaðaráætlun'!P19 -> 0 | Y15: =+SUMIF('3. Kostnaðaráætlun'!$K$24:$K$43,5,'3. Kostnaðaráætlun'!$P$24:$P$43) -> 0 | Z15: =+SUMIF('3. Kostnaðaráætlun'!$K$48:$K$67,5,'3. Kostnaðaráætlun'!$P$48:$P$67) -> 0 | AA15: =+SUMIF('3. Kostnaðaráætlun'!$K$72:$K$91,5,'3. Kostnaðaráætlun'!$P$72:$P$91) -> 0 | AB15: =+SUMIF('3. Kostnaðaráætlun'!$K$96:$K$115,5,'3. Kostnaðaráætlun'!$P$96:$P$115) -> 0 | AC15: =+SUMIF('3. Kostnaðaráætlun'!$K$120:$K$124,5,'3. Kostnaðaráætlun'!$P$120:$P$124) -> 0 | AM15: júlí | AN15: júlí | AO15: júlí
K16: Samtals: | M16: =SUM(M11:M15) -> 0 | O16: =SUM(O11:O15) -> 0 | AM16: ágúst | AN16: ágúst | AO16: ágúst
AM17: september | AN17: september | AO17: september
B18: =+B10 -> Ár | C18: =+C10 -> Númer verkþáttar | D18: =+D10 -> Heiti verkþáttar | E18: =+E10 -> Lýsing verkþáttar | F18: =+F10 -> Framkvæmdaraðil verkþáttar | G18: =+G10 -> Upphaf verkþáttar | H18: =+H10 -> Lok verkþáttar | I18: =+I10 -> Áætlaðar vörður/aðgerðir | ... O18: =+O10 -> Hlutfall af heildar-kostnaði árs | Q18: =+Q10 -> Laun og launatengd gjöld: | R18: =+R10 -> Rekstrarvörur, efni o.fl.: | S18: =+S10 -> Aðkeypt þjónusta: | T18: =+T10 -> Ferðir og fundir: | U18: =+U10 -> Notkun áhalda og tækja (afskriftir): | V18: =+V10 -> Samrekstur og aðstaða: | X18: =+Q18 -> Laun og launatengd gjöld: | Y18: =+R18 -> Rekstrarvörur, efni o.fl.: | Z18: =+S18 -> Aðkeypt þjónusta: | AA18: =+T18 -> Ferðir og fundir: | AB18: =+U18 -> Notkun áhalda og tækja (afskriftir): | AC18: =+V18 -> Samrekstur og aðstaða: | AM18: október | AN18: október | AO18: október
B19: 2 | C19: 1 | D19: =+D11 -> Heiti verkþáttar 1 | E19: =+E11 -> 0 | J19: Ekkert skráð hér | L19: Ekkert skráð hér | M19: =+SUM(Q19:V19)+SUM(X19:AC19) -> 0 | N19: Ekkert skráð hér | O19: =IFERROR(M19/$M$24,"") | Q19: =+'3. Kostnaðaráætlun'!H15 -> 0 | R19: =+SUMIF('3. Kostnaðaráætlun'!$B$24:$B$43,1,'3. Kostnaðaráætlun'!$H$24:$H$43) -> 0 | S19: =+SUMIF('3. Kostnaðaráætlun'!$B$48:$B$67,1,'3. Kostnaðaráætlun'!$H$48:$H$67) -> 0 | T19: =+SUMIF('3. Kostnaðaráætlun'!$B$72:$B$91,1,'3. Kostnaðaráætlun'!$H$72:$H$91) -> 0 | U19: =+SUMIF('3. Kostnaðaráætlun'!$B$96:$B$115,1,'3. Kostnaðaráætlun'!$H$96:$H$115) -> 0 | V19: =+SUMIF('3. Kostnaðaráætlun'!$B$120:$B$124,1,'3. Kostnaðaráætlun'!$H$120:$H$124) -> 0 | X19: =+'3. Kostnaðaráætlun'!Q15 -> 0 | Y19: =+SUMIF('3. Kostnaðaráætlun'!$K$24:$K$43,1,'3. Kostnaðaráætlun'!$Q$24:$Q$43) -> 0 | Z19: =+SUMIF('3. Kostnaðaráætlun'!$K$48:$K$67,1,'3. Kostnaðaráætlun'!$Q$48:$Q$67) -> 0 | AA19: =+SUMIF('3. Kostnaðaráætlun'!$K$72:$K$91,1,'3. Kostnaðaráætlun'!$Q$72:$Q$91) -> 0 | AB19: =+SUMIF('3. Kostnaðaráætlun'!$K$96:$K$115,1,'3. Kostnaðaráætlun'!$Q$96:$Q$115) -> 0 | AC19: =+SUMIF('3. Kostnaðaráætlun'!$K$120:$K$124,1,'3. Kostnaðaráætlun'!$Q$120:$Q$124) -> 0 | AM19: nóvember | AN19: nóvember | AO19: nóvember
B20: 2 | C20: 2 | D20: =+D12 -> Heiti verkþáttar 2 | E20: =+E12 -> 0 | J20: Ekkert skráð hér | L20: Ekkert skráð hér | M20: =+SUM(Q20:V20)+SUM(X20:AC20) -> 0 | N20: Ekkert skráð hér | O20: =IFERROR(M20/$M$24,"") | Q20: =+'3. Kostnaðaráætlun'!H16 -> 0 | R20: =+SUMIF('3. Kostnaðaráætlun'!$B$24:$B$43,2,'3. Kostnaðaráætlun'!$H$24:$H$43) -> 0 | S20: =+SUMIF('3. Kostnaðaráætlun'!$B$48:$B$67,2,'3. Kostnaðaráætlun'!$H$48:$H$67) -> 0 | T20: =+SUMIF('3. Kostnaðaráætlun'!$B$72:$B$91,2,'3. Kostnaðaráætlun'!$H$72:$H$91) -> 0 | U20: =+SUMIF('3. Kostnaðaráætlun'!$B$96:$B$115,2,'3. Kostnaðaráætlun'!$H$96:$H$115) -> 0 | V20: =+SUMIF('3. Kostnaðaráætlun'!$B$120:$B$124,2,'3. Kostnaðaráætlun'!$H$120:$H$124) -> 0 | X20: =+'3. Kostnaðaráætlun'!Q16 -> 0 | Y20: =+SUMIF('3. Kostnaðaráætlun'!$K$24:$K$43,2,'3. Kostnaðaráætlun'!$Q$24:$Q$43) -> 0 | Z20: =+SUMIF('3. Kostnaðaráætlun'!$K$48:$K$67,2,'3. Kostnaðaráætlun'!$Q$48:$Q$67) -> 0 | AA20: =+SUMIF('3. Kostnaðaráætlun'!$K$72:$K$91,2,'3. Kostnaðaráætlun'!$Q$72:$Q$91) -> 0 | AB20: =+SUMIF('3. Kostnaðaráætlun'!$K$96:$K$115,2,'3. Kostnaðaráætlun'!$Q$96:$Q$115) -> 0 | AC20: =+SUMIF('3. Kostnaðaráætlun'!$K$120:$K$124,2,'3. Kostnaðaráætlun'!$Q$120:$Q$124) -> 0 | AM20: desember | AN20: desember | AO20: desember
B21: 2 | C21: 3 | D21: =+D13 -> Heiti verkþáttar 3 | E21: =+E13 -> 0 | J21: Ekkert skráð hér | L21: Ekkert skráð hér | M21: =+SUM(Q21:V21)+SUM(X21:AC21) -> 0 | N21: Ekkert skráð hér | O21: =IFERROR(M21/$M$24,"") | Q21: =+'3. Kostnaðaráætlun'!H17 -> 0 | R21: =+SUMIF('3. Kostnaðaráætlun'!$B$24:$B$43,3,'3. Kostnaðaráætlun'!$H$24:$H$43) -> 0 | S21: =+SUMIF('3. Kostnaðaráætlun'!$B$48:$B$67,3,'3. Kostnaðaráætlun'!$H$48:$H$67) -> 0 | T21: =+SUMIF('3. Kostnaðaráætlun'!$B$72:$B$91,3,'3. Kostnaðaráætlun'!$H$72:$H$91) -> 0 | U21: =+SUMIF('3. Kostnaðaráætlun'!$B$96:$B$115,3,'3. Kostnaðaráætlun'!$H$96:$H$115) -> 0 | V21: =+SUMIF('3. Kostnaðaráætlun'!$B$120:$B$124,3,'3. Kostnaðaráætlun'!$H$120:$H$124) -> 0 | X21: =+'3. Kostnaðaráætlun'!Q17 -> 0 | Y21: =+SUMIF('3. Kostnaðaráætlun'!$K$24:$K$43,3,'3. Kostnaðaráætlun'!$Q$24:$Q$43) -> 0 | Z21: =+SUMIF('3. Kostnaðaráætlun'!$K$48:$K$67,3,'3. Kostnaðaráætlun'!$Q$48:$Q$67) -> 0 | AA21: =+SUMIF('3. Kostnaðaráætlun'!$K$72:$K$91,3,'3. Kostnaðaráætlun'!$Q$72:$Q$91) -> 0 | AB21: =+SUMIF('3. Kostnaðaráætlun'!$K$96:$K$115,3,'3. Kostnaðaráætlun'!$Q$96:$Q$115) -> 0 | AC21: =+SUMIF('3. Kostnaðaráætlun'!$K$120:$K$124,3,'3. Kostnaðaráætlun'!$Q$120:$Q$124) -> 0 | AM21: Ár 2 | AN21: Ár 1 | AO21: Ár 1
B22: 2 | C22: 4 | D22: =+D14 -> Heiti verkþáttar 4 | E22: =+E14 -> 0 | J22: Ekkert skráð hér | L22: Ekkert skráð hér | M22: =+SUM(Q22:V22)+SUM(X22:AC22) -> 0 | N22: Ekkert skráð hér | O22: =IFERROR(M22/$M$24,"") | Q22: =+'3. Kostnaðaráætlun'!H18 -> 0 | R22: =+SUMIF('3. Kostnaðaráætlun'!$B$24:$B$43,4,'3. Kostnaðaráætlun'!$H$24:$H$43) -> 0 | S22: =+SUMIF('3. Kostnaðaráætlun'!$B$48:$B$67,4,'3. Kostnaðaráætlun'!$H$48:$H$67) -> 0 | T22: =+SUMIF('3. Kostnaðaráætlun'!$B$72:$B$91,4,'3. Kostnaðaráætlun'!$H$72:$H$91) -> 0 | U22: =+SUMIF('3. Kostnaðaráætlun'!$B$96:$B$115,4,'3. Kostnaðaráætlun'!$H$96:$H$115) -> 0 | V22: =+SUMIF('3. Kostnaðaráætlun'!$B$120:$B$124,4,'3. Kostnaðaráætlun'!$H$120:$H$124) -> 0 | X22: =+'3. Kostnaðaráætlun'!Q18 -> 0 | Y22: =+SUMIF('3. Kostnaðaráætlun'!$K$24:$K$43,4,'3. Kostnaðaráætlun'!$Q$24:$Q$43) -> 0 | Z22: =+SUMIF('3. Kostnaðaráætlun'!$K$48:$K$67,4,'3. Kostnaðaráætlun'!$Q$48:$Q$67) -> 0 | AA22: =+SUMIF('3. Kostnaðaráætlun'!$K$72:$K$91,4,'3. Kostnaðaráætlun'!$Q$72:$Q$91) -> 0 | AB22: =+SUMIF('3. Kostnaðaráætlun'!$K$96:$K$115,4,'3. Kostnaðaráætlun'!$Q$96:$Q$115) -> 0 | AC22: =+SUMIF('3. Kostnaðaráætlun'!$K$120:$K$124,4,'3. Kostnaðaráætlun'!$Q$120:$Q$124) -> 0 | AM22: Ár 3 | AN22: Ár 3 | AO22: Ár 2
B23: 2 | C23: 5 | D23: =+D15 -> Heiti verkþáttar 5 | E23: =+E15 -> 0 | J23: Ekkert skráð hér | L23: Ekkert skráð hér | M23: =+SUM(Q23:V23)+SUM(X23:AC23) -> 0 | N23: Ekkert skráð hér | O23: =IFERROR(M23/$M$24,"") | Q23: =+'3. Kostnaðaráætlun'!H19 -> 0 | R23: =+SUMIF('3. Kostnaðaráætlun'!$B$24:$B$43,5,'3. Kostnaðaráætlun'!$H$24:$H$43) -> 0 | S23: =+SUMIF('3. Kostnaðaráætlun'!$B$48:$B$67,5,'3. Kostnaðaráætlun'!$H$48:$H$67) -> 0 | T23: =+SUMIF('3. Kostnaðaráætlun'!$B$72:$B$91,5,'3. Kostnaðaráætlun'!$H$72:$H$91) -> 0 | U23: =+SUMIF('3. Kostnaðaráætlun'!$B$96:$B$115,5,'3. Kostnaðaráætlun'!$H$96:$H$115) -> 0 | V23: =+SUMIF('3. Kostnaðaráætlun'!$B$120:$B$124,5,'3. Kostnaðaráætlun'!$H$120:$H$124) -> 0 | X23: =+'3. Kostnaðaráætlun'!Q19 -> 0 | Y23: =+SUMIF('3. Kostnaðaráætlun'!$K$24:$K$43,5,'3. Kostnaðaráætlun'!$Q$24:$Q$43) -> 0 | Z23: =+SUMIF('3. Kostnaðaráætlun'!$K$48:$K$67,5,'3. Kostnaðaráætlun'!$Q$48:$Q$67) -> 0 | AA23: =+SUMIF('3. Kostnaðaráætlun'!$K$72:$K$91,5,'3. Kostnaðaráætlun'!$Q$72:$Q$91) -> 0 | AB23: =+SUMIF('3. Kostnaðaráætlun'!$K$96:$K$115,5,'3. Kostnaðaráætlun'!$Q$96:$Q$115) -> 0 | AC23: =+SUMIF('3. Kostnaðaráætlun'!$K$120:$K$124,5,'3. Kostnaðaráætlun'!$Q$120:$Q$124) -> 0
K24: Samtals: | M24: =SUM(M19:M23) -> 0 | O24: =SUM(O19:O23) -> 0
B26: =+B10 -> Ár | C26: =+C10 -> Númer verkþáttar | D26: =+D10 -> Heiti verkþáttar | E26: =+E10 -> Lýsing verkþáttar | F26: =+F10 -> Framkvæmdaraðil verkþáttar | G26: =+G10 -> Upphaf verkþáttar | H26: =+H10 -> Lok verkþáttar | I26: =+I10 -> Áætlaðar vörður/aðgerðir | ... O26: =+O10 -> Hlutfall af heildar-kostnaði árs | Q26: =+Q18 -> Laun og launatengd gjöld: | R26: =+R18 -> Rekstrarvörur, efni o.fl.: | S26: =+S18 -> Aðkeypt þjónusta: | T26: =+T18 -> Ferðir og fundir: | U26: =+U18 -> Notkun áhalda og tækja (afskriftir): | V26: =+V18 -> Samrekstur og aðstaða: | X26: =+Q26 -> Laun og launatengd gjöld: | Y26: =+R26 -> Rekstrarvörur, efni o.fl.: | Z26: =+S26 -> Aðkeypt þjónusta: | AA26: =+T26 -> Ferðir og fundir: | AB26: =+U26 -> Notkun áhalda og tækja (afskriftir): | AC26: =+V26 -> Samrekstur og aðstaða:
B27: 3 | C27: 1 | D27: =+D11 -> Heiti verkþáttar 1 | E27: =+E11 -> 0 | J27: Ekkert skráð hér | L27: Ekkert skráð hér | M27: =+SUM(Q27:V27)+SUM(X27:AC27) -> 0 | N27: Ekkert skráð hér | O27: =IFERROR(M27/$M$32,"") | Q27: =+'3. Kostnaðaráætlun'!I15 -> 0 | R27: =+SUMIF('3. Kostnaðaráætlun'!$B$24:$B$43,1,'3. Kostnaðaráætlun'!$I$24:$I$43) -> 0 | S27: =+SUMIF('3. Kostnaðaráætlun'!$B$48:$B$67,1,'3. Kostnaðaráætlun'!$I$48:$I$67) -> 0 | T27: =+SUMIF('3. Kostnaðaráætlun'!$B$72:$B$91,1,'3. Kostnaðaráætlun'!$I$72:$I$91) -> 0 | U27: =+SUMIF('3. Kostnaðaráætlun'!$B$96:$B$115,1,'3. Kostnaðaráætlun'!$I$96:$I$115) -> 0 | V27: =+SUMIF('3. Kostnaðaráætlun'!$B$120:$B$124,1,'3. Kostnaðaráætlun'!$I$120:$I$124) -> 0 | X27: =+'3. Kostnaðaráætlun'!R15 -> 0 | Y27: =+SUMIF('3. Kostnaðaráætlun'!$K$24:$K$43,1,'3. Kostnaðaráætlun'!$R$24:$R$43) -> 0 | Z27: =+SUMIF('3. Kostnaðaráætlun'!$K$48:$K$67,1,'3. Kostnaðaráætlun'!$R$48:$R$67) -> 0 | AA27: =+SUMIF('3. Kostnaðaráætlun'!$K$72:$K$91,1,'3. Kostnaðaráætlun'!$R$72:$R$91) -> 0 | AB27: =+SUMIF('3. Kostnaðaráætlun'!$K$96:$K$115,1,'3. Kostnaðaráætlun'!$R$96:$R$115) -> 0 | AC27: =+SUMIF('3. Kostnaðaráætlun'!$K$120:$K$124,1,'3. Kostnaðaráætlun'!$R$120:$R$124) -> 0
B28: 3 | C28: 2 | D28: =+D12 -> Heiti verkþáttar 2 | E28: =+E12 -> 0 | J28: Ekkert skráð hér | L28: Ekkert skráð hér | M28: =+SUM(Q28:V28)+SUM(X28:AC28) -> 0 | N28: Ekkert skráð hér | O28: =IFERROR(M28/$M$32,"") | Q28: =+'3. Kostnaðaráætlun'!I16 -> 0 | R28: =+SUMIF('3. Kostnaðaráætlun'!$B$24:$B$43,2,'3. Kostnaðaráætlun'!$I$24:$I$43) -> 0 | S28: =+SUMIF('3. Kostnaðaráætlun'!$B$48:$B$67,2,'3. Kostnaðaráætlun'!$I$48:$I$67) -> 0 | T28: =+SUMIF('3. Kostnaðaráætlun'!$B$72:$B$91,2,'3. Kostnaðaráætlun'!$I$72:$I$91) -> 0 | U28: =+SUMIF('3. Kostnaðaráætlun'!$B$96:$B$115,2,'3. Kostnaðaráætlun'!$I$96:$I$115) -> 0 | V28: =+SUMIF('3. Kostnaðaráætlun'!$B$120:$B$124,2,'3. Kostnaðaráætlun'!$I$120:$I$124) -> 0 | X28: =+'3. Kostnaðaráætlun'!R16 -> 0 | Y28: =+SUMIF('3. Kostnaðaráætlun'!$K$24:$K$43,2,'3. Kostnaðaráætlun'!$R$24:$R$43) -> 0 | Z28: =+SUMIF('3. Kostnaðaráætlun'!$K$48:$K$67,2,'3. Kostnaðaráætlun'!$R$48:$R$67) -> 0 | AA28: =+SUMIF('3. Kostnaðaráætlun'!$K$72:$K$91,2,'3. Kostnaðaráætlun'!$R$72:$R$91) -> 0 | AB28: =+SUMIF('3. Kostnaðaráætlun'!$K$96:$K$115,2,'3. Kostnaðaráætlun'!$R$96:$R$115) -> 0 | AC28: =+SUMIF('3. Kostnaðaráætlun'!$K$120:$K$124,2,'3. Kostnaðaráætlun'!$R$120:$R$124) -> 0
B29: 3 | C29: 3 | D29: =+D13 -> Heiti verkþáttar 3 | E29: =+E13 -> 0 | J29: Ekkert skráð hér | L29: Ekkert skráð hér | M29: =+SUM(Q29:V29)+SUM(X29:AC29) -> 0 | N29: Ekkert skráð hér | O29: =IFERROR(M29/$M$32,"") | Q29: =+'3. Kostnaðaráætlun'!I17 -> 0 | R29: =+SUMIF('3. Kostnaðaráætlun'!$B$24:$B$43,3,'3. Kostnaðaráætlun'!$I$24:$I$43) -> 0 | S29: =+SUMIF('3. Kostnaðaráætlun'!$B$48:$B$67,3,'3. Kostnaðaráætlun'!$I$48:$I$67) -> 0 | T29: =+SUMIF('3. Kostnaðaráætlun'!$B$72:$B$91,3,'3. Kostnaðaráætlun'!$I$72:$I$91) -> 0 | U29: =+SUMIF('3. Kostnaðaráætlun'!$B$96:$B$115,3,'3. Kostnaðaráætlun'!$I$96:$I$115) -> 0 | V29: =+SUMIF('3. Kostnaðaráætlun'!$B$120:$B$124,3,'3. Kostnaðaráætlun'!$I$120:$I$124) -> 0 | X29: =+'3. Kostnaðaráætlun'!R17 -> 0 | Y29: =+SUMIF('3. Kostnaðaráætlun'!$K$24:$K$43,3,'3. Kostnaðaráætlun'!$R$24:$R$43) -> 0 | Z29: =+SUMIF('3. Kostnaðaráætlun'!$K$48:$K$67,3,'3. Kostnaðaráætlun'!$R$48:$R$67) -> 0 | AA29: =+SUMIF('3. Kostnaðaráætlun'!$K$72:$K$91,3,'3. Kostnaðaráætlun'!$R$72:$R$91) -> 0 | AB29: =+SUMIF('3. Kostnaðaráætlun'!$K$96:$K$115,3,'3. Kostnaðaráætlun'!$R$96:$R$115) -> 0 | AC29: =+SUMIF('3. Kostnaðaráætlun'!$K$120:$K$124,3,'3. Kostnaðaráætlun'!$R$120:$R$124) -> 0
B30: 3 | C30: 4 | D30: =+D14 -> Heiti verkþáttar 4 | E30: =+E14 -> 0 | J30: Ekkert skráð hér | L30: Ekkert skráð hér | M30: =+SUM(Q30:V30)+SUM(X30:AC30) -> 0 | N30: Ekkert skráð hér | O30: =IFERROR(M30/$M$32,"") | Q30: =+'3. Kostnaðaráætlun'!I18 -> 0 | R30: =+SUMIF('3. Kostnaðaráætlun'!$B$24:$B$43,4,'3. Kostnaðaráætlun'!$I$24:$I$43) -> 0 | S30: =+SUMIF('3. Kostnaðaráætlun'!$B$48:$B$67,4,'3. Kostnaðaráætlun'!$I$48:$I$67) -> 0 | T30: =+SUMIF('3. Kostnaðaráætlun'!$B$72:$B$91,4,'3. Kostnaðaráætlun'!$I$72:$I$91) -> 0 | U30: =+SUMIF('3. Kostnaðaráætlun'!$B$96:$B$115,4,'3. Kostnaðaráætlun'!$I$96:$I$115) -> 0 | V30: =+SUMIF('3. Kostnaðaráætlun'!$B$120:$B$124,4,'3. Kostnaðaráætlun'!$I$120:$I$124) -> 0 | X30: =+'3. Kostnaðaráætlun'!R18 -> 0 | Y30: =+SUMIF('3. Kostnaðaráætlun'!$K$24:$K$43,4,'3. Kostnaðaráætlun'!$R$24:$R$43) -> 0 | Z30: =+SUMIF('3. Kostnaðaráætlun'!$K$48:$K$67,4,'3. Kostnaðaráætlun'!$R$48:$R$67) -> 0 | AA30: =+SUMIF('3. Kostnaðaráætlun'!$K$72:$K$91,4,'3. Kostnaðaráætlun'!$R$72:$R$91) -> 0 | AB30: =+SUMIF('3. Kostnaðaráætlun'!$K$96:$K$115,4,'3. Kostnaðaráætlun'!$R$96:$R$115) -> 0 | AC30: =+SUMIF('3. Kostnaðaráætlun'!$K$120:$K$124,4,'3. Kostnaðaráætlun'!$R$120:$R$124) -> 0
B31: 3 | C31: 5 | D31: =+D15 -> Heiti verkþáttar 5 | E31: =+E15 -> 0 | J31: Ekkert skráð hér | L31: Ekkert skráð hér | M31: =+SUM(Q31:V31)+SUM(X31:AC31) -> 0 | N31: Ekkert skráð hér | O31: =IFERROR(M31/$M$32,"") | Q31: =+'3. Kostnaðaráætlun'!I19 -> 0 | R31: =+SUMIF('3. Kostnaðaráætlun'!$B$24:$B$43,5,'3. Kostnaðaráætlun'!$I$24:$I$43) -> 0 | S31: =+SUMIF('3. Kostnaðaráætlun'!$B$48:$B$67,5,'3. Kostnaðaráætlun'!$I$48:$I$67) -> 0 | T31: =+SUMIF('3. Kostnaðaráætlun'!$B$72:$B$91,5,'3. Kostnaðaráætlun'!$I$72:$I$91) -> 0 | U31: =+SUMIF('3. Kostnaðaráætlun'!$B$96:$B$115,5,'3. Kostnaðaráætlun'!$I$96:$I$115) -> 0 | V31: =+SUMIF('3. Kostnaðaráætlun'!$B$120:$B$124,5,'3. Kostnaðaráætlun'!$I$120:$I$124) -> 0 | X31: =+'3. Kostnaðaráætlun'!R19 -> 0 | Y31: =+SUMIF('3. Kostnaðaráætlun'!$K$24:$K$43,5,'3. Kostnaðaráætlun'!$R$24:$R$43) -> 0 | Z31: =+SUMIF('3. Kostnaðaráætlun'!$K$48:$K$67,5,'3. Kostnaðaráætlun'!$R$48:$R$67) -> 0 | AA31: =+SUMIF('3. Kostnaðaráætlun'!$K$72:$K$91,5,'3. Kostnaðaráætlun'!$R$72:$R$91) -> 0 | AB31: =+SUMIF('3. Kostnaðaráætlun'!$K$96:$K$115,5,'3. Kostnaðaráætlun'!$R$96:$R$115) -> 0 | AC31: =+SUMIF('3. Kostnaðaráætlun'!$K$120:$K$124,5,'3. Kostnaðaráætlun'!$R$120:$R$124) -> 0
K32: Samtals: | M32: =SUM(M27:M31) -> 0 | O32: =SUM(O27:O31) -> 0

Sheet 2. Áætlaður launakostnaður
B2: Áætlaður launakostnaður
B4: =+'1. Verkþættir'!C10 -> Númer verkþáttar | C4: =+'1. Verkþættir'!D10 -> Heiti verkþáttar | E4: =+'1. Verkþættir'!E10 -> Lýsing verkþáttar
B5: =+'1. Verkþættir'!C11 -> 1 | C5: =+'1. Verkþættir'!D11 -> Heiti verkþáttar 1 | E5: =+'1. Verkþættir'!E11 -> 0
B6: =+'1. Verkþættir'!C12 -> 2 | C6: =+'1. Verkþættir'!D12 -> Heiti verkþáttar 2 | E6: =+'1. Verkþættir'!E12 -> 0
B7: =+'1. Verkþættir'!C13 -> 3 | C7: =+'1. Verkþættir'!D13 -> Heiti verkþáttar 3 | E7: =+'1. Verkþættir'!E13 -> 0
B8: =+'1. Verkþættir'!C14 -> 4 | C8: =+'1. Verkþættir'!D14 -> Heiti verkþáttar 4 | E8: =+'1. Verkþættir'!E14 -> 0
B9: =+'1. Verkþættir'!C15 -> 5 | C9: =+'1. Verkþættir'!D15 -> Heiti verkþáttar 5 | E9: =+'1. Verkþættir'!E15 -> 0
B11: =+'1. Verkþættir'!B4 -> Umsækjandi: | D11: =+'1. Verkþættir'!D4 -> Umsækjandi A ehf. | M11: Ekki skal fylla út þessa töflu. | S11: Ekki skal fylla út þessa töflu
B13: Laun og launatengd gjöld: | M13: Heildarlaunakostnaður eftir verkþáttum | S13: Ár 1 - launakostnaður eftir verkþáttum | X13: Ár 2 - launakostnaður eftir verkþáttum | AC13: Ár 3 - launakostnaður eftir verkþáttum
B14: Númer verkþáttar | C14: Launþegi | E14: Launakostnaður pr. vinnustund (kr.) | F14: Fjöldi vinnustunda Ár 1 | G14: Fjöldi vinnustunda Ár 2 | H14: Fjöldi vinnustunda Ár 3 | I14: Launakostnaður Ár 1 (kr.) | J14: Launakostnaður Ár 2 (kr.) | K14: Launakostnaður Ár 3 (kr.) | M14: Launakostnaður verkþáttar 1 | N14: Launakostnaður verkþáttar 2 | O14: Launakostnaður verkþáttar 3 | P14: Launakostnaður verkþáttar 4 | Q14: Launakostnaður verkþáttar 5 | S14: Launakostnaður verkþáttar 1 | T14: Launakostnaður verkþáttar 2 | U14: Launakostnaður verkþáttar 3 | V14: Launakostnaður verkþáttar 4 | W14: Launakostnaður verkþáttar 5 | X14: Launakostnaður verkþáttar 1 | Y14: Launakostnaður verkþáttar 2 | Z14: Launakostnaður verkþáttar 3 | AA14: Launakostnaður verkþáttar 4 | AB14: Launakostnaður verkþáttar 5 | AC14: Launakostnaður verkþáttar 1 | AD14: Launakostnaður verkþáttar 2 | AE14: Launakostnaður verkþáttar 3 | AF14: Launakostnaður verkþáttar 4 | AG14: Launakostnaður verkþáttar 5
I15: =+E15*F15 -> 0 | J15: =+E15*G15 -> 0 | K15: =+E15*H15 -> 0 | M15: =IF((B15=1),E15*(F15+G15+H15),0) -> 0 | N15: =IF((B15=2),E15*(F15+G15+H15),0) -> 0 | O15: =IF((B15=3),E15*(F15+G15+H15),0) -> 0 | P15: =IF((B15=4),E15*(F15+G15+H15),0) -> 0 | Q15: =IF((B15=5),E15*(F15+G15+H15),0) -> 0 | S15: =IF((B15=1),I15,0) -> 0 | T15: =IF((B15=2),I15,0) -> 0 | U15: =IF((B15=3),I15,0) -> 0 | V15: =IF((B15=4),I15,0) -> 0 | W15: =IF((B15=5),I15,0) -> 0 | X15: =IF((B15=1),J15,0) -> 0 | Y15: =IF((B15=2),J15,0) -> 0 | Z15: =IF((B15=3),J15,0) -> 0 | AA15: =IF((B15=4),J15,0) -> 0 | AB15: =IF((B15=5),J15,0) -> 0 | AC15: =IF((B15=1),K15,0) -> 0 | AD15: =IF((B15=2),K15,0) -> 0 | AE15: =IF((B15=3),K15,0) -> 0 | AF15: =IF((B15=4),K15,0) -> 0 | AG15: =IF((B15=5),K15,0) -> 0 | AH15: =+IF(SUM(I15:K15)=SUM(S15:AG15),"OK","Stemmir ekki") -> OK
I16: =+E16*F16 -> 0 | J16: =+E16*G16 -> 0 | K16: =+E16*H16 -> 0 | M16: =IF((B16=1),E16*(F16+G16+H16),0) -> 0 | N16: =IF((B16=2),E16*(F16+G16+H16),0) -> 0 | O16: =IF((B16=3),E16*(F16+G16+H16),0) -> 0 | P16: =IF((B16=4),E16*(F16+G16+H16),0) -> 0 | Q16: =IF((B16=5),E16*(F16+G16+H16),0) -> 0 | S16: =IF((B16=1),I16,0) -> 0 | T16: =IF((B16=2),I16,0) -> 0 | U16: =IF((B16=3),I16,0) -> 0 | V16: =IF((B16=4),I16,0) -> 0 | W16: =IF((B16=5),I16,0) -> 0 | X16: =IF((B16=1),J16,0) -> 0 | Y16: =IF((B16=2),J16,0) -> 0 | Z16: =IF((B16=3),J16,0) -> 0 | AA16: =IF((B16=4),J16,0) -> 0 | AB16: =IF((B16=5),J16,0) -> 0 | AC16: =IF((B16=1),K16,0) -> 0 | AD16: =IF((B16=2),K16,0) -> 0 | AE16: =IF((B16=3),K16,0) -> 0 | AF16: =IF((B16=4),K16,0) -> 0 | AG16: =IF((B16=5),K16,0) -> 0 | AH16: =+IF(SUM(I16:K16)=SUM(S16:AG16),"OK","Stemmir ekki") -> OK
I17: =+E17*F17 -> 0 | J17: =+E17*G17 -> 0 | K17: =+E17*H17 -> 0 | M17: =IF((B17=1),E17*(F17+G17+H17),0) -> 0 | N17: =IF((B17=2),E17*(F17+G17+H17),0) -> 0 | O17: =IF((B17=3),E17*(F17+G17+H17),0) -> 0 | P17: =IF((B17=4),E17*(F17+G17+H17),0) -> 0 | Q17: =IF((B17=5),E17*(F17+G17+H17),0) -> 0 | S17: =IF((B17=1),I17,0) -> 0 | T17: =IF((B17=2),I17,0) -> 0 | U17: =IF((B17=3),I17,0) -> 0 | V17: =IF((B17=4),I17,0) -> 0 | W17: =IF((B17=5),I17,0) -> 0 | X17: =IF((B17=1),J17,0) -> 0 | Y17: =IF((B17=2),J17,0) -> 0 | Z17: =IF((B17=3),J17,0) -> 0 | AA17: =IF((B17=4),J17,0) -> 0 | AB17: =IF((B17=5),J17,0) -> 0 | AC17: =IF((B17=1),K17,0) -> 0 | AD17: =IF((B17=2),K17,0) -> 0 | AE17: =IF((B17=3),K17,0) -> 0 | AF17: =IF((B17=4),K17,0) -> 0 | AG17: =IF((B17=5),K17,0) -> 0 | AH17: =+IF(SUM(I17:K17)=SUM(S17:AG17),"OK","Stemmir ekki") -> OK
I18: =+E18*F18 -> 0 | J18: =+E18*G18 -> 0 | K18: =+E18*H18 -> 0 | M18: =IF((B18=1),E18*(F18+G18+H18),0) -> 0 | N18: =IF((B18=2),E18*(F18+G18+H18),0) -> 0 | O18: =IF((B18=3),E18*(F18+G18+H18),0) -> 0 | P18: =IF((B18=4),E18*(F18+G18+H18),0) -> 0 | Q18: =IF((B18=5),E18*(F18+G18+H18),0) -> 0 | S18: =IF((B18=1),I18,0) -> 0 | T18: =IF((B18=2),I18,0) -> 0 | U18: =IF((B18=3),I18,0) -> 0 | V18: =IF((B18=4),I18,0) -> 0 | W18: =IF((B18=5),I18,0) -> 0 | X18: =IF((B18=1),J18,0) -> 0 | Y18: =IF((B18=2),J18,0) -> 0 | Z18: =IF((B18=3),J18,0) -> 0 | AA18: =IF((B18=4),J18,0) -> 0 | AB18: =IF((B18=5),J18,0) -> 0 | AC18: =IF((B18=1),K18,0) -> 0 | AD18: =IF((B18=2),K18,0) -> 0 | AE18: =IF((B18=3),K18,0) -> 0 | AF18: =IF((B18=4),K18,0) -> 0 | AG18: =IF((B18=5),K18,0) -> 0 | AH18: =+IF(SUM(I18:K18)=SUM(S18:AG18),"OK","Stemmir ekki") -> OK
I19: =+E19*F19 -> 0 | J19: =+E19*G19 -> 0 | K19: =+E19*H19 -> 0 | M19: =IF((B19=1),E19*(F19+G19+H19),0) -> 0 | N19: =IF((B19=2),E19*(F19+G19+H19),0) -> 0 | O19: =IF((B19=3),E19*(F19+G19+H19),0) -> 0 | P19: =IF((B19=4),E19*(F19+G19+H19),0) -> 0 | Q19: =IF((B19=5),E19*(F19+G19+H19),0) -> 0 | S19: =IF((B19=1),I19,0) -> 0 | T19: =IF((B19=2),I19,0) -> 0 | U19: =IF((B19=3),I19,0) -> 0 | V19: =IF((B19=4),I19,0) -> 0 | W19: =IF((B19=5),I19,0) -> 0 | X19: =IF((B19=1),J19,0) -> 0 | Y19: =IF((B19=2),J19,0) -> 0 | Z19: =IF((B19=3),J19,0) -> 0 | AA19: =IF((B19=4),J19,0) -> 0 | AB19: =IF((B19=5),J19,0) -> 0 | AC19: =IF((B19=1),K19,0) -> 0 | AD19: =IF((B19=2),K19,0) -> 0 | AE19: =IF((B19=3),K19,0) -> 0 | AF19: =IF((B19=4),K19,0) -> 0 | AG19: =IF((B19=5),K19,0) -> 0 | AH19: =+IF(SUM(I19:K19)=SUM(S19:AG19),"OK","Stemmir ekki") -> OK
I20: =+E20*F20 -> 0 | J20: =+E20*G20 -> 0 | K20: =+E20*H20 -> 0 | M20: =IF((B20=1),E20*(F20+G20+H20),0) -> 0 | N20: =IF((B20=2),E20*(F20+G20+H20),0) -> 0 | O20: =IF((B20=3),E20*(F20+G20+H20),0) -> 0 | P20: =IF((B20=4),E20*(F20+G20+H20),0) -> 0 | Q20: =IF((B20=5),E20*(F20+G20+H20),0) -> 0 | S20: =IF((B20=1),I20,0) -> 0 | T20: =IF((B20=2),I20,0) -> 0 | U20: =IF((B20=3),I20,0) -> 0 | V20: =IF((B20=4),I20,0) -> 0 | W20: =IF((B20=5),I20,0) -> 0 | X20: =IF((B20=1),J20,0) -> 0 | Y20: =IF((B20=2),J20,0) -> 0 | Z20: =IF((B20=3),J20,0) -> 0 | AA20: =IF((B20=4),J20,0) -> 0 | AB20: =IF((B20=5),J20,0) -> 0 | AC20: =IF((B20=1),K20,0) -> 0 | AD20: =IF((B20=2),K20,0) -> 0 | AE20: =IF((B20=3),K20,0) -> 0 | AF20: =IF((B20=4),K20,0) -> 0 | AG20: =IF((B20=5),K20,0) -> 0 | AH20: =+IF(SUM(I20:K20)=SUM(S20:AG20),"OK","Stemmir ekki") -> OK
I21: =+E21*F21 -> 0 | J21: =+E21*G21 -> 0 | K21: =+E21*H21 -> 0 | M21: =IF((B21=1),E21*(F21+G21+H21),0) -> 0 | N21: =IF((B21=2),E21*(F21+G21+H21),0) -> 0 | O21: =IF((B21=3),E21*(F21+G21+H21),0) -> 0 | P21: =IF((B21=4),E21*(F21+G21+H21),0) -> 0 | Q21: =IF((B21=5),E21*(F21+G21+H21),0) -> 0 | S21: =IF((B21=1),I21,0) -> 0 | T21: =IF((B21=2),I21,0) -> 0 | U21: =IF((B21=3),I21,0) -> 0 | V21: =IF((B21=4),I21,0) -> 0 | W21: =IF((B21=5),I21,0) -> 0 | X21: =IF((B21=1),J21,0) -> 0 | Y21: =IF((B21=2),J21,0) -> 0 | Z21: =IF((B21=3),J21,0) -> 0 | AA21: =IF((B21=4),J21,0) -> 0 | AB21: =IF((B21=5),J21,0) -> 0 | AC21: =IF((B21=1),K21,0) -> 0 | AD21: =IF((B21=2),K21,0) -> 0 | AE21: =IF((B21=3),K21,0) -> 0 | AF21: =IF((B21=4),K21,0) -> 0 | AG21: =IF((B21=5),K21,0) -> 0 | AH21: =+IF(SUM(I21:K21)=SUM(S21:AG21),"OK","Stemmir ekki") -> OK
I22: =+E22*F22 -> 0 | J22: =+E22*G22 -> 0 | K22: =+E22*H22 -> 0 | M22: =IF((B22=1),E22*(F22+G22+H22),0) -> 0 | N22: =IF((B22=2),E22*(F22+G22+H22),0) -> 0 | O22: =IF((B22=3),E22*(F22+G22+H22),0) -> 0 | P22: =IF((B22=4),E22*(F22+G22+H22),0) -> 0 | Q22: =IF((B22=5),E22*(F22+G22+H22),0) -> 0 | S22: =IF((B22=1),I22,0) -> 0 | T22: =IF((B22=2),I22,0) -> 0 | U22: =IF((B22=3),I22,0) -> 0 | V22: =IF((B22=4),I22,0) -> 0 | W22: =IF((B22=5),I22,0) -> 0 | X22: =IF((B22=1),J22,0) -> 0 | Y22: =IF((B22=2),J22,0) -> 0 | Z22: =IF((B22=3),J22,0) -> 0 | AA22: =IF((B22=4),J22,0) -> 0 | AB22: =IF((B22=5),J22,0) -> 0 | AC22: =IF((B22=1),K22,0) -> 0 | AD22: =IF((B22=2),K22,0) -> 0 | AE22: =IF((B22=3),K22,0) -> 0 | AF22: =IF((B22=4),K22,0) -> 0 | AG22: =IF((B22=5),K22,0) -> 0 | AH22: =+IF(SUM(I22:K22)=SUM(S22:AG22),"OK","Stemmir ekki") -> OK
I23: =+E23*F23 -> 0 | J23: =+E23*G23 -> 0 | K23: =+E23*H23 -> 0 | M23: =IF((B23=1),E23*(F23+G23+H23),0) -> 0 | N23: =IF((B23=2),E23*(F23+G23+H23),0) -> 0 | O23: =IF((B23=3),E23*(F23+G23+H23),0) -> 0 | P23: =IF((B23=4),E23*(F23+G23+H23),0) -> 0 | Q23: =IF((B23=5),E23*(F23+G23+H23),0) -> 0 | S23: =IF((B23=1),I23,0) -> 0 | T23: =IF((B23=2),I23,0) -> 0 | U23: =IF((B23=3),I23,0) -> 0 | V23: =IF((B23=4),I23,0) -> 0 | W23: =IF((B23=5),I23,0) -> 0 | X23: =IF((B23=1),J23,0) -> 0 | Y23: =IF((B23=2),J23,0) -> 0 | Z23: =IF((B23=3),J23,0) -> 0 | AA23: =IF((B23=4),J23,0) -> 0 | AB23: =IF((B23=5),J23,0) -> 0 | AC23: =IF((B23=1),K23,0) -> 0 | AD23: =IF((B23=2),K23,0) -> 0 | AE23: =IF((B23=3),K23,0) -> 0 | AF23: =IF((B23=4),K23,0) -> 0 | AG23: =IF((B23=5),K23,0) -> 0 | AH23: =+IF(SUM(I23:K23)=SUM(S23:AG23),"OK","Stemmir ekki") -> OK
I24: =+E24*F24 -> 0 | J24: =+E24*G24 -> 0 | K24: =+E24*H24 -> 0 | M24: =IF((B24=1),E24*(F24+G24+H24),0) -> 0 | N24: =IF((B24=2),E24*(F24+G24+H24),0) -> 0 | O24: =IF((B24=3),E24*(F24+G24+H24),0) -> 0 | P24: =IF((B24=4),E24*(F24+G24+H24),0) -> 0 | Q24: =IF((B24=5),E24*(F24+G24+H24),0) -> 0 | S24: =IF((B24=1),I24,0) -> 0 | T24: =IF((B24=2),I24,0) -> 0 | U24: =IF((B24=3),I24,0) -> 0 | V24: =IF((B24=4),I24,0) -> 0 | W24: =IF((B24=5),I24,0) -> 0 | X24: =IF((B24=1),J24,0) -> 0 | Y24: =IF((B24=2),J24,0) -> 0 | Z24: =IF((B24=3),J24,0) -> 0 | AA24: =IF((B24=4),J24,0) -> 0 | AB24: =IF((B24=5),J24,0) -> 0 | AC24: =IF((B24=1),K24,0) -> 0 | AD24: =IF((B24=2),K24,0) -> 0 | AE24: =IF((B24=3),K24,0) -> 0 | AF24: =IF((B24=4),K24,0) -> 0 | AG24: =IF((B24=5),K24,0) -> 0 | AH24: =+IF(SUM(I24:K24)=SUM(S24:AG24),"OK","Stemmir ekki") -> OK
I25: =+E25*F25 -> 0 | J25: =+E25*G25 -> 0 | K25: =+E25*H25 -> 0 | M25: =IF((B25=1),E25*(F25+G25+H25),0) -> 0 | N25: =IF((B25=2),E25*(F25+G25+H25),0) -> 0 | O25: =IF((B25=3),E25*(F25+G25+H25),0) -> 0 | P25: =IF((B25=4),E25*(F25+G25+H25),0) -> 0 | Q25: =IF((B25=5),E25*(F25+G25+H25),0) -> 0 | S25: =IF((B25=1),I25,0) -> 0 | T25: =IF((B25=2),I25,0) -> 0 | U25: =IF((B25=3),I25,0) -> 0 | V25: =IF((B25=4),I25,0) -> 0 | W25: =IF((B25=5),I25,0) -> 0 | X25: =IF((B25=1),J25,0) -> 0 | Y25: =IF((B25=2),J25,0) -> 0 | Z25: =IF((B25=3),J25,0) -> 0 | AA25: =IF((B25=4),J25,0) -> 0 | AB25: =IF((B25=5),J25,0) -> 0 | AC25: =IF((B25=1),K25,0) -> 0 | AD25: =IF((B25=2),K25,0) -> 0 | AE25: =IF((B25=3),K25,0) -> 0 | AF25: =IF((B25=4),K25,0) -> 0 | AG25: =IF((B25=5),K25,0) -> 0 | AH25: =+IF(SUM(I25:K25)=SUM(S25:AG25),"OK","Stemmir ekki") -> OK
I26: =+E26*F26 -> 0 | J26: =+E26*G26 -> 0 | K26: =+E26*H26 -> 0 | M26: =IF((B26=1),E26*(F26+G26+H26),0) -> 0 | N26: =IF((B26=2),E26*(F26+G26+H26),0) -> 0 | O26: =IF((B26=3),E26*(F26+G26+H26),0) -> 0 | P26: =IF((B26=4),E26*(F26+G26+H26),0) -> 0 | Q26: =IF((B26=5),E26*(F26+G26+H26),0) -> 0 | S26: =IF((B26=1),I26,0) -> 0 | T26: =IF((B26=2),I26,0) -> 0 | U26: =IF((B26=3),I26,0) -> 0 | V26: =IF((B26=4),I26,0) -> 0 | W26: =IF((B26=5),I26,0) -> 0 | X26: =IF((B26=1),J26,0) -> 0 | Y26: =IF((B26=2),J26,0) -> 0 | Z26: =IF((B26=3),J26,0) -> 0 | AA26: =IF((B26=4),J26,0) -> 0 | AB26: =IF((B26=5),J26,0) -> 0 | AC26: =IF((B26=1),K26,0) -> 0 | AD26: =IF((B26=2),K26,0) -> 0 | AE26: =IF((B26=3),K26,0) -> 0 | AF26: =IF((B26=4),K26,0) -> 0 | AG26: =IF((B26=5),K26,0) -> 0 | AH26: =+IF(SUM(I26:K26)=SUM(S26:AG26),"OK","Stemmir ekki") -> OK
... I53: =+E53*F53 -> 0 | J53: =+E53*G53 -> 0 | K53: =+E53*H53 -> 0 | M53: =IF((B53=1),E53*(F53+G53+H53),0) -> 0 | N53: =IF((B53=2),E53*(F53+G53+H53),0) -> 0 | O53: =IF((B53=3),E53*(F53+G53+H53),0) -> 0 | P53: =IF((B53=4),E53*(F53+G53+H53),0) -> 0 | Q53: =IF((B53=5),E53*(F53+G53+H53),0) -> 0 | S53: =IF((B53=1),I53,0) -> 0 | T53: =IF((B53=2),I53,0) -> 0 | U53: =IF((B53=3),I53,0) -> 0 | V53: =IF((B53=4),I53,0) -> 0 | W53: =IF((B53=5),I53,0) -> 0 | X53: =IF((B53=1),J53,0) -> 0 | Y53: =IF((B53=2),J53,0) -> 0 | Z53: =IF((B53=3),J53,0) -> 0 | AA53: =IF((B53=4),J53,0) -> 0 | AB53: =IF((B53=5),J53,0) -> 0 | AC53: =IF((B53=1),K53,0) -> 0 | AD53: =IF((B53=2),K53,0) -> 0 | AE53: =IF((B53=3),K53,0) -> 0 | AF53: =IF((B53=4),K53,0) -> 0 | AG53: =IF((B53=5),K53,0) -> 0 | AH53: =+IF(SUM(I53:K53)=SUM(S53:AG53),"OK","Stemmir ekki") -> OK
B54: Heildarlaunakostnaður umsækjanda: | I54: =SUM(I15:I53) -> 0 | J54: =SUM(J15:J53) -> 0 | K54: =SUM(K15:K53) -> 0 | M54: =SUM(M15:M53) -> 0 | N54: =SUM(N15:N53) -> 0 | O54: =SUM(O15:O53) -> 0 | P54: =SUM(P15:P53) -> 0 | Q54: =SUM(Q15:Q53) -> 0 | S54: =SUM(S15:S53) -> 0 | T54: =SUM(T15:T53) -> 0 | U54: =SUM(U15:U53) -> 0 | V54: =SUM(V15:V53) -> 0 | W54: =SUM(W15:W53) -> 0 | X54: =SUM(X15:X53) -> 0 | Y54: =SUM(Y15:Y53) -> 0 | Z54: =SUM(Z15:Z53) -> 0 | ... AG54: =SUM(AG15:AG53) -> 0 | AH54: =+IF(SUM(I54:K54)=SUM(S54:AG54),"OK","Stemmir ekki") -> OK
B56: =+'1. Verkþættir'!B5 -> Meðumsækjandi: | D56: =+'1. Verkþættir'!D5 -> Umsækjandi B ehf. (ef við á)
B58: Laun og launatengd gjöld: | M58: Heildarlaunakostnaður á verkþætti | S58: Ár 1 - launakostnaður á verkþætti | X58: Ár 2 - launakostnaður á verkþætti | AC58: Ár 3 - launakostnaður á verkþætti
B59: =+B14 -> Númer verkþáttar | C59: =+C14 -> Launþegi | E59: =+E14 -> Launakostnaður pr. vinnustund (kr.) | F59: =+F14 -> Fjöldi vinnustunda Ár 1 | G59: =+G14 -> Fjöldi vinnustunda Ár 2 | H59: =+H14 -> Fjöldi vinnustunda Ár 3 | I59: =+I14 -> Launakostnaður Ár 1 (kr.) | J59: =+J14 -> Launakostnaður Ár 2 (kr.) | K59: =+K14 -> Launakostnaður Ár 3 (kr.) | M59: Launakostnaður á verkþátt 1 | N59: Launakostnaður á verkþátt 2 | O59: Launakostnaður á verkþátt 3 | P59: Launakostnaður á verkþátt 4 | Q59: Launakostnaður á verkþátt 5 | S59: Launakostnaður verkþáttar 1 | T59: Launakostnaður verkþáttar 2 | U59: Launakostnaður verkþáttar 3 | V59: Launakostnaður verkþáttar 4 | W59: Launakostnaður verkþáttar 5 | X59: Launakostnaður verkþáttar 1 | Y59: Launakostnaður verkþáttar 2 | Z59: Launakostnaður verkþáttar 3 | AA59: Launakostnaður verkþáttar 4 | AB59: Launakostnaður verkþáttar 5 | AC59: Launakostnaður verkþáttar 1 | AD59: Launakostnaður verkþáttar 2 | AE59: Launakostnaður verkþáttar 3 | AF59: Launakostnaður verkþáttar 4 | AG59: Launakostnaður verkþáttar 5
I60: =+E60*F60 -> 0 | J60: =+E60*G60 -> 0 | K60: =+E60*H60 -> 0 | M60: =IF((B60=1),E60*(F60+G60+H60),0) -> 0 | N60: =IF((B60=2),E60*(F60+G60+H60),0) -> 0 | O60: =IF((B60=3),E60*(F60+G60+H60),0) -> 0 | P60: =IF((B60=4),E60*(F60+G60+H60),0) -> 0 | Q60: =IF((B60=5),E60*(F60+G60+H60),0) -> 0 | S60: =IF((B60=1),I60,0) -> 0 | T60: =IF((B60=2),I60,0) -> 0 | U60: =IF((B60=3),I60,0) -> 0 | V60: =IF((B60=4),I60,0) -> 0 | W60: =IF((B60=5),I60,0) -> 0 | X60: =IF((B60=1),J60,0) -> 0 | Y60: =IF((B60=2),J60,0) -> 0 | Z60: =IF((B60=3),J60,0) -> 0 | AA60: =IF((B60=4),J60,0) -> 0 | AB60: =IF((B60=5),J60,0) -> 0 | AC60: =IF((B60=1),K60,0) -> 0 | AD60: =IF((B60=2),K60,0) -> 0 | AE60: =IF((B60=3),K60,0) -> 0 | AF60: =IF((B60=4),K60,0) -> 0 | AG60: =IF((B60=5),K60,0) -> 0 | AH60: =+IF(SUM(I60:K60)=SUM(S60:AG60),"OK","Stemmir ekki") -> OK
I61: =+E61*F61 -> 0 | J61: =+E61*G61 -> 0 | K61: =+E61*H61 -> 0 | M61: =IF((B61=1),E61*(F61+G61+H61),0) -> 0 | N61: =IF((B61=2),E61*(F61+G61+H61),0) -> 0 | O61: =IF((B61=3),E61*(F61+G61+H61),0) -> 0 | P61: =IF((B61=4),E61*(F61+G61+H61),0) -> 0 | Q61: =IF((B61=5),E61*(F61+G61+H61),0) -> 0 | S61: =IF((B61=1),I61,0) -> 0 | T61: =IF((B61=2),I61,0) -> 0 | U61: =IF((B61=3),I61,0) -> 0 | V61: =IF((B61=4),I61,0) -> 0 | W61: =IF((B61=5),I61,0) -> 0 | X61: =IF((B61=1),J61,0) -> 0 | Y61: =IF((B61=2),J61,0) -> 0 | Z61: =IF((B61=3),J61,0) -> 0 | AA61: =IF((B61=4),J61,0) -> 0 | AB61: =IF((B61=5),J61,0) -> 0 | AC61: =IF((B61=1),K61,0) -> 0 | AD61: =IF((B61=2),K61,0) -> 0 | AE61: =IF((B61=3),K61,0) -> 0 | AF61: =IF((B61=4),K61,0) -> 0 | AG61: =IF((B61=5),K61,0) -> 0 | AH61: =+IF(SUM(I61:K61)=SUM(S61:AG61),"OK","Stemmir ekki") -> OK
I62: =+E62*F62 -> 0 | J62: =+E62*G62 -> 0 | K62: =+E62*H62 -> 0 | M62: =IF((B62=1),E62*(F62+G62+H62),0) -> 0 | N62: =IF((B62=2),E62*(F62+G62+H62),0) -> 0 | O62: =IF((B62=3),E62*(F62+G62+H62),0) -> 0 | P62: =IF((B62=4),E62*(F62+G62+H62),0) -> 0 | Q62: =IF((B62=5),E62*(F62+G62+H62),0) -> 0 | S62: =IF((B62=1),I62,0) -> 0 | T62: =IF((B62=2),I62,0) -> 0 | U62: =IF((B62=3),I62,0) -> 0 | V62: =IF((B62=4),I62,0) -> 0 | W62: =IF((B62=5),I62,0) -> 0 | X62: =IF((B62=1),J62,0) -> 0 | Y62: =IF((B62=2),J62,0) -> 0 | Z62: =IF((B62=3),J62,0) -> 0 | AA62: =IF((B62=4),J62,0) -> 0 | AB62: =IF((B62=5),J62,0) -> 0 | AC62: =IF((B62=1),K62,0) -> 0 | AD62: =IF((B62=2),K62,0) -> 0 | AE62: =IF((B62=3),K62,0) -> 0 | AF62: =IF((B62=4),K62,0) -> 0 | AG62: =IF((B62=5),K62,0) -> 0 | AH62: =+IF(SUM(I62:K62)=SUM(S62:AG62),"OK","Stemmir ekki") -> OK
I63: =+E63*F63 -> 0 | J63: =+E63*G63 -> 0 | K63: =+E63*H63 -> 0 | M63: =IF((B63=1),E63*(F63+G63+H63),0) -> 0 | N63: =IF((B63=2),E63*(F63+G63+H63),0) -> 0 | O63: =IF((B63=3),E63*(F63+G63+H63),0) -> 0 | P63: =IF((B63=4),E63*(F63+G63+H63),0) -> 0 | Q63: =IF((B63=5),E63*(F63+G63+H63),0) -> 0 | S63: =IF((B63=1),I63,0) -> 0 | T63: =IF((B63=2),I63,0) -> 0 | U63: =IF((B63=3),I63,0) -> 0 | V63: =IF((B63=4),I63,0) -> 0 | W63: =IF((B63=5),I63,0) -> 0 | X63: =IF((B63=1),J63,0) -> 0 | Y63: =IF((B63=2),J63,0) -> 0 | Z63: =IF((B63=3),J63,0) -> 0 | AA63: =IF((B63=4),J63,0) -> 0 | AB63: =IF((B63=5),J63,0) -> 0 | AC63: =IF((B63=1),K63,0) -> 0 | AD63: =IF((B63=2),K63,0) -> 0 | AE63: =IF((B63=3),K63,0) -> 0 | AF63: =IF((B63=4),K63,0) -> 0 | AG63: =IF((B63=5),K63,0) -> 0 | AH63: =+IF(SUM(I63:K63)=SUM(S63:AG63),"OK","Stemmir ekki") -> OK
I64: =+E64*F64 -> 0 | J64: =+E64*G64 -> 0 | K64: =+E64*H64 -> 0 | M64: =IF((B64=1),E64*(F64+G64+H64),0) -> 0 | N64: =IF((B64=2),E64*(F64+G64+H64),0) -> 0 | O64: =IF((B64=3),E64*(F64+G64+H64),0) -> 0 | P64: =IF((B64=4),E64*(F64+G64+H64),0) -> 0 | Q64: =IF((B64=5),E64*(F64+G64+H64),0) -> 0 | S64: =IF((B64=1),I64,0) -> 0 | T64: =IF((B64=2),I64,0) -> 0 | U64: =IF((B64=3),I64,0) -> 0 | V64: =IF((B64=4),I64,0) -> 0 | W64: =IF((B64=5),I64,0) -> 0 | X64: =IF((B64=1),J64,0) -> 0 | Y64: =IF((B64=2),J64,0) -> 0 | Z64: =IF((B64=3),J64,0) -> 0 | AA64: =IF((B64=4),J64,0) -> 0 | AB64: =IF((B64=5),J64,0) -> 0 | AC64: =IF((B64=1),K64,0) -> 0 | AD64: =IF((B64=2),K64,0) -> 0 | AE64: =IF((B64=3),K64,0) -> 0 | AF64: =IF((B64=4),K64,0) -> 0 | AG64: =IF((B64=5),K64,0) -> 0 | AH64: =+IF(SUM(I64:K64)=SUM(S64:AG64),"OK","Stemmir ekki") -> OK
I65: =+E65*F65 -> 0 | J65: =+E65*G65 -> 0 | K65: =+E65*H65 -> 0 | M65: =IF((B65=1),E65*(F65+G65+H65),0) -> 0 | N65: =IF((B65=2),E65*(F65+G65+H65),0) -> 0 | O65: =IF((B65=3),E65*(F65+G65+H65),0) -> 0 | P65: =IF((B65=4),E65*(F65+G65+H65),0) -> 0 | Q65: =IF((B65=5),E65*(F65+G65+H65),0) -> 0 | S65: =IF((B65=1),I65,0) -> 0 | T65: =IF((B65=2),I65,0) -> 0 | U65: =IF((B65=3),I65,0) -> 0 | V65: =IF((B65=4),I65,0) -> 0 | W65: =IF((B65=5),I65,0) -> 0 | X65: =IF((B65=1),J65,0) -> 0 | Y65: =IF((B65=2),J65,0) -> 0 | Z65: =IF((B65=3),J65,0) -> 0 | AA65: =IF((B65=4),J65,0) -> 0 | AB65: =IF((B65=5),J65,0) -> 0 | AC65: =IF((B65=1),K65,0) -> 0 | AD65: =IF((B65=2),K65,0) -> 0 | AE65: =IF((B65=3),K65,0) -> 0 | AF65: =IF((B65=4),K65,0) -> 0 | AG65: =IF((B65=5),K65,0) -> 0 | AH65: =+IF(SUM(I65:K65)=SUM(S65:AG65),"OK","Stemmir ekki") -> OK
I66: =+E66*F66 -> 0 | J66: =+E66*G66 -> 0 | K66: =+E66*H66 -> 0 | M66: =IF((B66=1),E66*(F66+G66+H66),0) -> 0 | N66: =IF((B66=2),E66*(F66+G66+H66),0) -> 0 | O66: =IF((B66=3),E66*(F66+G66+H66),0) -> 0 | P66: =IF((B66=4),E66*(F66+G66+H66),0) -> 0 | Q66: =IF((B66=5),E66*(F66+G66+H66),0) -> 0 | S66: =IF((B66=1),I66,0) -> 0 | T66: =IF((B66=2),I66,0) -> 0 | U66: =IF((B66=3),I66,0) -> 0 | V66: =IF((B66=4),I66,0) -> 0 | W66: =IF((B66=5),I66,0) -> 0 | X66: =IF((B66=1),J66,0) -> 0 | Y66: =IF((B66=2),J66,0) -> 0 | Z66: =IF((B66=3),J66,0) -> 0 | AA66: =IF((B66=4),J66,0) -> 0 | AB66: =IF((B66=5),J66,0) -> 0 | AC66: =IF((B66=1),K66,0) -> 0 | AD66: =IF((B66=2),K66,0) -> 0 | AE66: =IF((B66=3),K66,0) -> 0 | AF66: =IF((B66=4),K66,0) -> 0 | AG66: =IF((B66=5),K66,0) -> 0 | AH66: =+IF(SUM(I66:K66)=SUM(S66:AG66),"OK","Stemmir ekki") -> OK
I67: =+E67*F67 -> 0 | J67: =+E67*G67 -> 0 | K67: =+E67*H67 -> 0 | M67: =IF((B67=1),E67*(F67+G67+H67),0) -> 0 | N67: =IF((B67=2),E67*(F67+G67+H67),0) -> 0 | O67: =IF((B67=3),E67*(F67+G67+H67),0) -> 0 | P67: =IF((B67=4),E67*(F67+G67+H67),0) -> 0 | Q67: =IF((B67=5),E67*(F67+G67+H67),0) -> 0 | S67: =IF((B67=1),I67,0) -> 0 | T67: =IF((B67=2),I67,0) -> 0 | U67: =IF((B67=3),I67,0) -> 0 | V67: =IF((B67=4),I67,0) -> 0 | W67: =IF((B67=5),I67,0) -> 0 | X67: =IF((B67=1),J67,0) -> 0 | Y67: =IF((B67=2),J67,0) -> 0 | Z67: =IF((B67=3),J67,0) -> 0 | AA67: =IF((B67=4),J67,0) -> 0 | AB67: =IF((B67=5),J67,0) -> 0 | AC67: =IF((B67=1),K67,0) -> 0 | AD67: =IF((B67=2),K67,0) -> 0 | AE67: =IF((B67=3),K67,0) -> 0 | AF67: =IF((B67=4),K67,0) -> 0 | AG67: =IF((B67=5),K67,0) -> 0 | AH67: =+IF(SUM(I67:K67)=SUM(S67:AG67),"OK","Stemmir ekki") -> OK
I68: =+E68*F68 -> 0 | J68: =+E68*G68 -> 0 | K68: =+E68*H68 -> 0 | M68: =IF((B68=1),E68*(F68+G68+H68),0) -> 0 | N68: =IF((B68=2),E68*(F68+G68+H68),0) -> 0 | O68: =IF((B68=3),E68*(F68+G68+H68),0) -> 0 | P68: =IF((B68=4),E68*(F68+G68+H68),0) -> 0 | Q68: =IF((B68=5),E68*(F68+G68+H68),0) -> 0 | S68: =IF((B68=1),I68,0) -> 0 | T68: =IF((B68=2),I68,0) -> 0 | U68: =IF((B68=3),I68,0) -> 0 | V68: =IF((B68=4),I68,0) -> 0 | W68: =IF((B68=5),I68,0) -> 0 | X68: =IF((B68=1),J68,0) -> 0 | Y68: =IF((B68=2),J68,0) -> 0 | Z68: =IF((B68=3),J68,0) -> 0 | AA68: =IF((B68=4),J68,0) -> 0 | AB68: =IF((B68=5),J68,0) -> 0 | AC68: =IF((B68=1),K68,0) -> 0 | AD68: =IF((B68=2),K68,0) -> 0 | AE68: =IF((B68=3),K68,0) -> 0 | AF68: =IF((B68=4),K68,0) -> 0 | AG68: =IF((B68=5),K68,0) -> 0 | AH68: =+IF(SUM(I68:K68)=SUM(S68:AG68),"OK","Stemmir ekki") -> OK
I69: =+E69*F69 -> 0 | J69: =+E69*G69 -> 0 | K69: =+E69*H69 -> 0 | M69: =IF((B69=1),E69*(F69+G69+H69),0) -> 0 | N69: =IF((B69=2),E69*(F69+G69+H69),0) -> 0 | O69: =IF((B69=3),E69*(F69+G69+H69),0) -> 0 | P69: =IF((B69=4),E69*(F69+G69+H69),0) -> 0 | Q69: =IF((B69=5),E69*(F69+G69+H69),0) -> 0 | S69: =IF((B69=1),I69,0) -> 0 | T69: =IF((B69=2),I69,0) -> 0 | U69: =IF((B69=3),I69,0) -> 0 | V69: =IF((B69=4),I69,0) -> 0 | W69: =IF((B69=5),I69,0) -> 0 | X69: =IF((B69=1),J69,0) -> 0 | Y69: =IF((B69=2),J69,0) -> 0 | Z69: =IF((B69=3),J69,0) -> 0 | AA69: =IF((B69=4),J69,0) -> 0 | AB69: =IF((B69=5),J69,0) -> 0 | AC69: =IF((B69=1),K69,0) -> 0 | AD69: =IF((B69=2),K69,0) -> 0 | AE69: =IF((B69=3),K69,0) -> 0 | AF69: =IF((B69=4),K69,0) -> 0 | AG69: =IF((B69=5),K69,0) -> 0 | AH69: =+IF(SUM(I69:K69)=SUM(S69:AG69),"OK","Stemmir ekki") -> OK
I70: =+E70*F70 -> 0 | J70: =+E70*G70 -> 0 | K70: =+E70*H70 -> 0 | M70: =IF((B70=1),E70*(F70+G70+H70),0) -> 0 | N70: =IF((B70=2),E70*(F70+G70+H70),0) -> 0 | O70: =IF((B70=3),E70*(F70+G70+H70),0) -> 0 | P70: =IF((B70=4),E70*(F70+G70+H70),0) -> 0 | Q70: =IF((B70=5),E70*(F70+G70+H70),0) -> 0 | S70: =IF((B70=1),I70,0) -> 0 | T70: =IF((B70=2),I70,0) -> 0 | U70: =IF((B70=3),I70,0) -> 0 | V70: =IF((B70=4),I70,0) -> 0 | W70: =IF((B70=5),I70,0) -> 0 | X70: =IF((B70=1),J70,0) -> 0 | Y70: =IF((B70=2),J70,0) -> 0 | Z70: =IF((B70=3),J70,0) -> 0 | AA70: =IF((B70=4),J70,0) -> 0 | AB70: =IF((B70=5),J70,0) -> 0 | AC70: =IF((B70=1),K70,0) -> 0 | AD70: =IF((B70=2),K70,0) -> 0 | AE70: =IF((B70=3),K70,0) -> 0 | AF70: =IF((B70=4),K70,0) -> 0 | AG70: =IF((B70=5),K70,0) -> 0 | AH70: =+IF(SUM(I70:K70)=SUM(S70:AG70),"OK","Stemmir ekki") -> OK
I71: =+E71*F71 -> 0 | J71: =+E71*G71 -> 0 | K71: =+E71*H71 -> 0 | M71: =IF((B71=1),E71*(F71+G71+H71),0) -> 0 | N71: =IF((B71=2),E71*(F71+G71+H71),0) -> 0 | O71: =IF((B71=3),E71*(F71+G71+H71),0) -> 0 | P71: =IF((B71=4),E71*(F71+G71+H71),0) -> 0 | Q71: =IF((B71=5),E71*(F71+G71+H71),0) -> 0 | S71: =IF((B71=1),I71,0) -> 0 | T71: =IF((B71=2),I71,0) -> 0 | U71: =IF((B71=3),I71,0) -> 0 | V71: =IF((B71=4),I71,0) -> 0 | W71: =IF((B71=5),I71,0) -> 0 | X71: =IF((B71=1),J71,0) -> 0 | Y71: =IF((B71=2),J71,0) -> 0 | Z71: =IF((B71=3),J71,0) -> 0 | AA71: =IF((B71=4),J71,0) -> 0 | AB71: =IF((B71=5),J71,0) -> 0 | AC71: =IF((B71=1),K71,0) -> 0 | AD71: =IF((B71=2),K71,0) -> 0 | AE71: =IF((B71=3),K71,0) -> 0 | AF71: =IF((B71=4),K71,0) -> 0 | AG71: =IF((B71=5),K71,0) -> 0 | AH71: =+IF(SUM(I71:K71)=SUM(S71:AG71),"OK","Stemmir ekki") -> OK
... I94: =+E94*F94 -> 0 | J94: =+E94*G94 -> 0 | K94: =+E94*H94 -> 0 | M94: =IF((B94=1),E94*(F94+G94+H94),0) -> 0 | N94: =IF((B94=2),E94*(F94+G94+H94),0) -> 0 | O94: =IF((B94=3),E94*(F94+G94+H94),0) -> 0 | P94: =IF((B94=4),E94*(F94+G94+H94),0) -> 0 | Q94: =IF((B94=5),E94*(F94+G94+H94),0) -> 0 | S94: =IF((B94=1),I94,0) -> 0 | T94: =IF((B94=2),I94,0) -> 0 | U94: =IF((B94=3),I94,0) -> 0 | V94: =IF((B94=4),I94,0) -> 0 | W94: =IF((B94=5),I94,0) -> 0 | X94: =IF((B94=1),J94,0) -> 0 | Y94: =IF((B94=2),J94,0) -> 0 | Z94: =IF((B94=3),J94,0) -> 0 | AA94: =IF((B94=4),J94,0) -> 0 | AB94: =IF((B94=5),J94,0) -> 0 | AC94: =IF((B94=1),K94,0) -> 0 | AD94: =IF((B94=2),K94,0) -> 0 | AE94: =IF((B94=3),K94,0) -> 0 | AF94: =IF((B94=4),K94,0) -> 0 | AG94: =IF((B94=5),K94,0) -> 0 | AH94: =+IF(SUM(I94:K94)=SUM(S94:AG94),"OK","Stemmir ekki") -> OK
...

Sheet 3. Kostnaðaráætlun
B2: Kostnaðaráætlun verkþátta
B4: =+'1. Verkþættir'!C10 -> Númer verkþáttar | C4: =+'1. Verkþættir'!D10 -> Heiti verkþáttar | E4: =+'1. Verkþættir'!E10 -> Lýsing verkþáttar
B5: =+'1. Verkþættir'!C11 -> 1 | C5: =+'1. Verkþættir'!D11 -> Heiti verkþáttar 1 | E5: =+'1. Verkþættir'!E11 -> 0
B6: =+'1. Verkþættir'!C12 -> 2 | C6: =+'1. Verkþættir'!D12 -> Heiti verkþáttar 2 | E6: =+'1. Verkþættir'!E12 -> 0
B7: =+'1. Verkþættir'!C13 -> 3 | C7: =+'1. Verkþættir'!D13 -> Heiti verkþáttar 3 | E7: =+'1. Verkþættir'!E13 -> 0
B8: =+'1. Verkþættir'!C14 -> 4 | C8: =+'1. Verkþættir'!D14 -> Heiti verkþáttar 4 | E8: =+'1. Verkþættir'!E14 -> 0
B9: =+'1. Verkþættir'!C15 -> 5 | C9: =+'1. Verkþættir'!D15 -> Heiti verkþáttar 5 | E9: =+'1. Verkþættir'!E15 -> 0
B11: =+'1. Verkþættir'!B4 -> Umsækjandi: | D11: =+'1. Verkþættir'!D4 -> Umsækjandi A ehf. | K11: =+'1. Verkþættir'!B5 -> Meðumsækjandi: | M11: =+'1. Verkþættir'!D5 -> Umsækjandi B ehf. (ef við á)
B13: Laun og launatengd gjöld: | K13: Laun og launatengd gjöld:
B14: Númer verkþáttar | C14: Lýsing á kostnaðarlið | G14: Ár 1 (kr.) | H14: Ár 2 (kr.) | I14: Ár 3 (kr.) | K14: Númer verkþáttar | L14: Lýsing á kostnaðarlið | P14: Ár 1 (kr.) | Q14: Ár 2 (kr.) | R14: Ár 3 (kr.)
B15: 1 | C15: Laun og launatengd gjöld - verkþáttur 1 | G15: =+'2. Áætlaður launakostnaður'!S54 -> 0 | H15: =+'2. Áætlaður launakostnaður'!X54 -> 0 | I15: =+'2. Áætlaður launakostnaður'!AC54 -> 0 | K15: 1 | L15: Laun og launatengd gjöld - verkþáttur 1 | P15: =+'2. Áætlaður launakostnaður'!S96 -> 0 | Q15: =+'2. Áætlaður launakostnaður'!X96 -> 0 | R15: =+'2. Áætlaður launakostnaður'!AC96 -> 0
B16: 2 | C16: Laun og launatengd gjöld - verkþáttur 2 | G16: =+'2. Áætlaður launakostnaður'!T54 -> 0 | H16: =+'2. Áætlaður launakostnaður'!Y54 -> 0 | I16: =+'2. Áætlaður launakostnaður'!AD54 -> 0 | K16: 2 | L16: Laun og launatengd gjöld - verkþáttur 2 | P16: =+'2. Áætlaður launakostnaður'!T96 -> 0 | Q16: =+'2. Áætlaður launakostnaður'!Y96 -> 0 | R16: =+'2. Áætlaður launakostnaður'!AD96 -> 0
B17: 3 | C17: Laun og launatengd gjöld - verkþáttur 3 | G17: =+'2. Áætlaður launakostnaður'!U54 -> 0 | H17: =+'2. Áætlaður launakostnaður'!Z54 -> 0 | I17: =+'2. Áætlaður launakostnaður'!AE54 -> 0 | K17: 3 | L17: Laun og launatengd gjöld - verkþáttur 3 | P17: =+'2. Áætlaður launakostnaður'!U96 -> 0 | Q17: =+'2. Áætlaður launakostnaður'!Z96 -> 0 | R17: =+'2. Áætlaður launakostnaður'!AE96 -> 0
B18: 4 | C18: Laun og launatengd gjöld - verkþáttur 4 | G18: =+'2. Áætlaður launakostnaður'!V54 -> 0 | H18: =+'2. Áætlaður launakostnaður'!AA54 -> 0 | I18: =+'2. Áætlaður launakostnaður'!AF54 -> 0 | K18: 4 | L18: Laun og launatengd gjöld - verkþáttur 4 | P18: =+'2. Áætlaður launakostnaður'!V96 -> 0 | Q18: =+'2. Áætlaður launakostnaður'!AA96 -> 0 | R18: =+'2. Áætlaður launakostnaður'!AF96 -> 0
B19: 5 | C19: Laun og launatengd gjöld - verkþáttur 5 | G19: =+'2. Áætlaður launakostnaður'!W54 -> 0 | H19: =+'2. Áætlaður launakostnaður'!AB54 -> 0 | I19: =+'2. Áætlaður launakostnaður'!AG54 -> 0 | K19: 5 | L19: Laun og launatengd gjöld - verkþáttur 5 | P19: =+'2. Áætlaður launakostnaður'!W96 -> 0 | Q19: =+'2. Áætlaður launakostnaður'!AB96 -> 0 | R19: =+'2. Áætlaður launakostnaður'!AG96 -> 0
B20: Samtals launakostnaður: | G20: =SUM(G15:G19) -> 0 | H20: =SUM(H15:H19) -> 0 | I20: =SUM(I15:I19) -> 0 | K20: Samtals launakostnaður: | P20: =SUM(P15:P19) -> 0 | Q20: =SUM(Q15:Q19) -> 0 | R20: =SUM(R15:R19) -> 0
B22: Rekstrarvörur, efni o.fl.: | K22: Rekstrarvörur, efni o.fl.:
B23: Númer verkþáttar | C23: Lýsing á kostnaðarlið | G23: Ár 1 (kr.) | H23: Ár 2 (kr.) | I23: Ár 3 (kr.) | K23: Númer verkþáttar | L23: Lýsing á kostnaðarlið | P23: =+G23 -> Ár 1 (kr.) | Q23: =+H23 -> Ár 2 (kr.) | R23: =+I23 -> Ár 3 (kr.)
B44: Samtals kostnaður rekstrarvara: | G44: =SUM(G24:G43) -> 0 | H44: =SUM(H24:H43) -> 0 | I44: =SUM(I24:I43) -> 0 | K44: Samtals kostnaður rekstrarvara: | P44: =SUM(P24:P43) -> 0 | Q44: =SUM(Q24:Q43) -> 0 | R44: =SUM(R24:R43) -> 0
B46: Aðkeypt þjónusta: | D46: Aðkeypt þjónusta | K46: Aðkeypt þjónusta | M46: Aðkeypt þjónusta
B47: Númer verkþáttar | C47: Lýsing á kostnaðarlið | G47: =+G23 -> Ár 1 (kr.) | H47: =+H23 -> Ár 2 (kr.) | I47: =+I23 -> Ár 3 (kr.) | K47: Númer verkþáttar | L47: Lýsing á kostnaðarlið | P47: =+P23 -> Ár 1 (kr.) | Q47: =+Q23 -> Ár 2 (kr.) | R47: =+R23 -> Ár 3 (kr.)
B68: Samtals kostnaður við aðkeypta þjónusta: | G68: =SUM(G48:G67) -> 0 | H68: =SUM(H48:H67) -> 0 | I68: =SUM(I48:I67) -> 0 | K68: Samtals kostnaður við aðkeypta þjónusta: | P68: =SUM(P48:P67) -> 0 | Q68: =SUM(Q48:Q67) -> 0 | R68: =SUM(R48:R67) -> 0
B70: Ferðir og fundir: | D70: Ferðir og fundir | K70: Ferðir og fundir | M70: Ferðir og fundir
B71: Númer verkþáttar | C71: Lýsing á kostnaðarlið | G71: =+G23 -> Ár 1 (kr.) | H71: =+H23 -> Ár 2 (kr.) | I71: =+I23 -> Ár 3 (kr.) | K71: Númer verkþáttar | L71: Lýsing á kostnaðarlið | P71: =+P23 -> Ár 1 (kr.) | Q71: =+Q23 -> Ár 2 (kr.) | R71: =+R23 -> Ár 3 (kr.)
B92: Samtals kostnaður við ferðir og fundi: | G92: =SUM(G72:G91) -> 0 | H92: =SUM(H72:H91) -> 0 | I92: =SUM(I72:I91) -> 0 | K92: Samtals kostnaður við ferðir og fundi: | P92: =SUM(P72:P91) -> 0 | Q92: =SUM(Q72:Q91) -> 0 | R92: =SUM(R72:R91) -> 0
B94: Notkun áhalda og tækja (afskriftir): | D94: Afskriftir áhalda og tækja | K94: Notkun áhalda og tækja (afskriftir) | M94: Afskriftir áhalda og tækja
B95: Númer verkþáttar | C95: Lýsing á kostnaðarlið | G95: =+G71 -> Ár 1 (kr.) | H95: =+H71 -> Ár 2 (kr.) | I95: =+I71 -> Ár 3 (kr.) | K95: Númer verkþáttar | L95: Lýsing á kostnaðarlið | P95: =+P71 -> Ár 1 (kr.) | Q95: =+Q71 -> Ár 2 (kr.) | R95: =+R71 -> Ár 3 (kr.)
B116: Samtals notkun áhalda og tækja: | G116: =SUM(G96:G115) -> 0 | H116: =SUM(H96:H115) -> 0 | I116: =SUM(I96:I115) -> 0 | K116: Samtals notkun áhalda og tækja: | P116: =SUM(P96:P115) -> 0 | Q116: =SUM(Q96:Q115) -> 0 | R116: =SUM(R96:R115) -> 0
B118: Samrekstur og aðstaða: | D118: Samrekstur og aðstaða | K118: Samrekstur og aðstaða | M118: Samrekstur og aðstaða
B119: Númer verkþáttar | C119: Lýsing á kostnaðarlið | G119: =+G95 -> Ár 1 (kr.) | H119: =+H95 -> Ár 2 (kr.) | I119: =+I95 -> Ár 3 (kr.) | K119: Númer verkþáttar | L119: Lýsing á kostnaðarlið | P119: =+P95 -> Ár 1 (kr.) | Q119: =+Q95 -> Ár 2 (kr.) | R119: =+R95 -> Ár 3 (kr.)
B120: 1 | K120: 1
B121: 2 | K121: 2
B122: 3 | K122: 3
B123: 4 | K123: 4
B124: 5 | K124: 5
B125: Samtals kostnaður við samrekstur og aðstöðu: | G125: =+SUM(G120:G124) -> 0 | H125: =+SUM(H120:H124) -> 0 | I125: =+SUM(I120:I124) -> 0 | K125: Samtals kostnaður við samrekstur og aðstöðu: | P125: =+SUM(P120:P124) -> 0 | Q125: =+SUM(Q120:Q124) -> 0 | R125: =+SUM(R120:R124) -> 0
B126: Samrekstur og aðstaða innan marka: | F126: Samrekstur og aðstaða innan marka: | G126: =IF(SUM(G120:G124)>G20*0.2,"OF HÁTT","OK") -> OK | H126: =IF(SUM(H120:H124)>H20*0.2,"OF HÁTT","OK") -> OK | I126: =IF(SUM(I120:I124)>I20*0.2,"OF HÁTT","OK") -> OK | K126: =+B126 -> Samrekstur og aðstaða innan marka: | O126: Samrekstur og aðstaða innan marka: | P126: =IF(SUM(P120:P124)>P20*0.2,"OF HÁTT","OK") -> OK | Q126: =IF(SUM(Q120:Q124)>Q20*0.2,"OF HÁTT","OK") -> OK | R126: =IF(SUM(R120:R124)>R20*0.2,"OF HÁTT","OK") -> OK
G128: Ár 1 samtals | H128: Ár 2 samtals | I128: Ár 3 samtals | P128: Ár 1 samtals | Q128: Ár 2 samtals | R128: Ár 3 samtals
B129: Heildarkostnaður umsækjanda á ári: | G129: =G20+G44+G68+G92+G116+G125 -> 0 | H129: =H20+H44+H68+H92+H116+H125 -> 0 | I129: =I20+I44+I68+I92+I116+I125 -> 0 | K129: Heildarkostnaður meðumsækjanda á ári: | P129: =P20+P44+P68+P92+P116+P125 -> 0 | Q129: =Q20+Q44+Q68+Q92+Q116+Q125 -> 0 | R129: =R20+R44+R68+R92+R116+R125 -> 0
B131: Heildarkostnaður umsækjanda: | G131: =+I129+H129+G129 -> 0 | K131: Heildarkostnaður meðumsækjanda: | P131: =+R129+Q129+P129 -> 0

Sheet 4. Fjármögnun
B2: Yfirlit kostnaðar og fjármögnunar
B4: Umsækjandi: | C4: =+'1. Verkþættir'!D4 -> Umsækjandi A ehf.
B5: Meðumsækjandi (ef við á): | C5: =+'1. Verkþættir'!D5 -> Umsækjandi B ehf. (ef við á)
B6: Heiti verkefnis: | C6: =+'1. Verkþættir'!D6 -> Verkefnið
B7: Land: | C7: =+'1. Verkþættir'!D7 -> Verkefnaland
B8: Verkefnistími: | C8: =+'1. Verkþættir'!D8 -> 202X-202X
B9: Styrkbeiðni: | C9: =+F25 -> 0
B11: Heildarkostnaður verkefnis | I11: Kostnaðarsundurliðun eftir ári | K11: ÁR 1 | L11: ÁR 2 | M11: ÁR 3 | O11: ÁR 1 | P11: ÁR 2 | Q11: ÁR 3
B12: Kostnaðarliðir verkefnis: | D12: =+C4 -> Umsækjandi A ehf. | E12: =+C5 -> Umsækjandi B ehf. (ef við á) | F12: Heildar-kostnaður: | G12: Hlutfall af heild % | I12: Kostnaðarliðir verkefnis | K12: =+C4 -> Umsækjandi A ehf. | O12: =+C5 -> Umsækjandi B ehf. (ef við á)
B13: =+'3. Kostnaðaráætlun'!B13 -> Laun og launatengd gjöld: | D13: =+K13+L13+M13 -> 0 | E13: =+Q13+O13+P13 -> 0 | F13: =+E13+D13 -> 0 | G13: =IFERROR(F13/F19,"") | I13: =+B13 -> Laun og launatengd gjöld: | K13: =+'3. Kostnaðaráætlun'!G20 -> 0 | L13: =+'3. Kostnaðaráætlun'!H20 -> 0 | M13: =+'3. Kostnaðaráætlun'!I20 -> 0 | O13: =+'3. Kostnaðaráætlun'!P20 -> 0 | P13: =+'3. Kostnaðaráætlun'!Q20 -> 0 | Q13: =+'3. Kostnaðaráætlun'!R20 -> 0
B14: =+'3. Kostnaðaráætlun'!B22 -> Rekstrarvörur, efni o.fl.: | D14: =+K14+L14+M14 -> 0 | E14: =+Q14+O14+P14 -> 0 | F14: =+E14+D14 -> 0 | G14: =IFERROR(F14/F19,"") | I14: =+B14 -> Rekstrarvörur, efni o.fl.: | K14: =+'3. Kostnaðaráætlun'!G44 -> 0 | L14: =+'3. Kostnaðaráætlun'!H44 -> 0 | M14: =+'3. Kostnaðaráætlun'!I44 -> 0 | O14: =+'3. Kostnaðaráætlun'!P44 -> 0 | P14: =+'3. Kostnaðaráætlun'!Q44 -> 0 | Q14: =+'3. Kostnaðaráætlun'!R44 -> 0
B15: =+'3. Kostnaðaráætlun'!B46 -> Aðkeypt þjónusta: | D15: =+K15+L15+M15 -> 0 | E15: =+Q15+O15+P15 -> 0 | F15: =+E15+D15 -> 0 | G15: =IFERROR(F15/F19,"") | I15: =+B15 -> Aðkeypt þjónusta: | K15: =+'3. Kostnaðaráætlun'!G68 -> 0 | L15: =+'3. Kostnaðaráætlun'!H68 -> 0 | M15: =+'3. Kostnaðaráætlun'!I68 -> 0 | O15: =+'3. Kostnaðaráætlun'!P68 -> 0 | P15: =+'3. Kostnaðaráætlun'!Q68 -> 0 | Q15: =+'3. Kostnaðaráætlun'!R68 -> 0
B16: =+'3. Kostnaðaráætlun'!B70 -> Ferðir og fundir: | D16: =+K16+L16+M16 -> 0 | E16: =+Q16+O16+P16 -> 0 | F16: =+E16+D16 -> 0 | G16: =IFERROR(F16/F19,"") | I16: =+B16 -> Ferðir og fundir: | K16: =+'3. Kostnaðaráætlun'!G92 -> 0 | L16: =+'3. Kostnaðaráætlun'!H92 -> 0 | M16: =+'3. Kostnaðaráætlun'!I92 -> 0 | O16: =+'3. Kostnaðaráætlun'!P92 -> 0 | P16: =+'3. Kostnaðaráætlun'!Q92 -> 0 | Q16: =+'3. Kostnaðaráætlun'!R92 -> 0
B17: =+'3. Kostnaðaráætlun'!B94 -> Notkun áhalda og tækja (afskriftir): | D17: =+K17+L17+M17 -> 0 | E17: =+Q17+O17+P17 -> 0 | F17: =+E17+D17 -> 0 | G17: =IFERROR(F17/F19,"") | I17: =+B17 -> Notkun áhalda og tækja (afskriftir): | K17: =+'3. Kostnaðaráætlun'!G116 -> 0 | L17: =+'3. Kostnaðaráætlun'!H116 -> 0 | M17: =+'3. Kostnaðaráætlun'!I116 -> 0 | O17: =+'3. Kostnaðaráætlun'!P116 -> 0 | P17: =+'3. Kostnaðaráætlun'!Q116 -> 0 | Q17: =+'3. Kostnaðaráætlun'!R116 -> 0
B18: =+'3. Kostnaðaráætlun'!B118 -> Samrekstur og aðstaða: | D18: =+K18+L18+M18 -> 0 | E18: =+Q18+O18+P18 -> 0 | F18: =+E18+D18 -> 0 | G18: =IFERROR(F18/F19,"") | I18: =+B18 -> Samrekstur og aðstaða: | K18: =+'3. Kostnaðaráætlun'!G125 -> 0 | L18: =+'3. Kostnaðaráætlun'!H125 -> 0 | M18: =+'3. Kostnaðaráætlun'!I125 -> 0 | O18: =+'3. Kostnaðaráætlun'!P125 -> 0 | P18: =+'3. Kostnaðaráætlun'!Q125 -> 0 | Q18: =+'3. Kostnaðaráætlun'!R125 -> 0
B19: Heildarkostnaður: | D19: =SUM(D13:D18) -> 0 | E19: =SUM(E13:E18) -> 0 | F19: =+SUM(F13:F18) -> 0 | G19: =+SUM(G13:G18) -> 0 | I19: Kostnaður: | K19: =SUM(K13:K18) -> 0 | L19: =SUM(L13:L18) -> 0 | M19: =SUM(M13:M18) -> 0 | O19: =SUM(O13:O18) -> 0 | P19: =SUM(P13:P18) -> 0 | Q19: =SUM(Q13:Q18) -> 0
B21: Heildarfjármögnun verkefnis | I21: Fjármögnun sundurliðuð á ár: | K21: ÁR 1 | L21: ÁR 2 | M21: ÁR 3 | O21: ÁR 1 | P21: ÁR 2 | Q21: ÁR 3
B22: Fjármögnunarliðir verkefnis: | D22: =+D12 -> Umsækjandi A ehf. | E22: =+E12 -> Umsækjandi B ehf. (ef við á) | F22: Heildar-fjármögnun: | G22: Hlutfall af heild % | I22: Fjármögnunarliðir verkefnis: | K22: =+K12 -> Umsækjandi A ehf. | O22: =+O12 -> Umsækjandi B ehf. (ef við á)
B23: Mótframlag umsækjanda: | D23: =+K23+L23+M23 -> 0 | E23: =+P23+O23+Q23 -> 0 | F23: =+D23+E23 -> 0 | G23: =IFERROR(F23/F26,"") | I23: Mótframlag umsækjanda:
B24: Aðrir styrkir: | D24: =+K24+L24+M24 -> 0 | E24: =+P24+O24+Q24 -> 0 | F24: =+D24+E24 -> 0 | G24: =IFERROR(F24/F26,"") | I24: Aðrir styrkir:
